BEGIN:VCALENDAR
VERSION:2.0
PRODID:-//Downtown Ferndale - ECPv6.15.20//NONSGML v1.0//EN
CALSCALE:GREGORIAN
METHOD:PUBLISH
X-WR-CALNAME:Downtown Ferndale
X-ORIGINAL-URL:https://downtownferndale.com
X-WR-CALDESC:Events for Downtown Ferndale
REFRESH-INTERVAL;VALUE=DURATION:PT1H
X-Robots-Tag:noindex
X-PUBLISHED-TTL:PT1H
BEGIN:VTIMEZONE
TZID:America/New_York
BEGIN:DAYLIGHT
TZOFFSETFROM:-0500
TZOFFSETTO:-0400
TZNAME:EDT
DTSTART:20230312T070000
END:DAYLIGHT
BEGIN:STANDARD
TZOFFSETFROM:-0400
TZOFFSETTO:-0500
TZNAME:EST
DTSTART:20231105T060000
END:STANDARD
BEGIN:DAYLIGHT
TZOFFSETFROM:-0500
TZOFFSETTO:-0400
TZNAME:EDT
DTSTART:20240310T070000
END:DAYLIGHT
BEGIN:STANDARD
TZOFFSETFROM:-0400
TZOFFSETTO:-0500
TZNAME:EST
DTSTART:20241103T060000
END:STANDARD
BEGIN:DAYLIGHT
TZOFFSETFROM:-0500
TZOFFSETTO:-0400
TZNAME:EDT
DTSTART:20250309T070000
END:DAYLIGHT
BEGIN:STANDARD
TZOFFSETFROM:-0400
TZOFFSETTO:-0500
TZNAME:EST
DTSTART:20251102T060000
END:STANDARD
END:VTIMEZONE
BEGIN:VEVENT
DTSTART;TZID=America/New_York:20240221T150000
DTEND;TZID=America/New_York:20240221T160000
DTSTAMP:20260419T232917
CREATED:20240216T170354Z
LAST-MODIFIED:20240216T170605Z
UID:10000513-1708527600-1708531200@downtownferndale.com
SUMMARY:Parking Signage for Community Preview
DESCRIPTION:We want to hear from you!  \nThis spring\, ParkFerndale will transition to a “pay-by-plate” system\, commonly referred to as “zone parking.” You might recognize this from cities like Detroit\, where users pay to park anywhere within an area of identified spaces\, rather than a specific space number. \nThis decision was previously approved by City Council\, recognizing how this approach should improve the customer experience by offering more ways to pay with added convenience and reduced confusion/error. \nDon’t worry – the app will stay the same and most users won’t notice any difference\, except for the signage – which is where YOU come in… \nWe want to be sure that this new system is as easy to understand as we think it is. Therefore\, we’re asking for your input on the parking signs before they roll out. \nPlease join us at one of the following sessions where we’ll preview some sign examples and ask for your feedback. Both sessions will be one-hour and have both an in-person and virtual option. \nWednesday\, February 21 @ 3 PM \nJim Shaffer’s Community Corner\n22757 Woodward Ave \nClick this link to attend virtually.
URL:https://downtownferndale.com/event/parking-signage-for-community-preview/
LOCATION:Jim Shaffer Community House\, 22757 Woodward Ave\, Ferndale\, MI\, United States
CATEGORIES:Events
ATTACH;FMTTYPE=image/png:https://downtownferndale.com/wp-content/uploads/2024/02/ArtWALK-2-e1708103149793.png
END:VEVENT
END:VCALENDAR