BEGIN:VCALENDAR
VERSION:2.0
PRODID:-//Downtown Ferndale - ECPv6.15.20//NONSGML v1.0//EN
CALSCALE:GREGORIAN
METHOD:PUBLISH
X-ORIGINAL-URL:https://downtownferndale.com
X-WR-CALDESC:Events for Downtown Ferndale
REFRESH-INTERVAL;VALUE=DURATION:PT1H
X-Robots-Tag:noindex
X-PUBLISHED-TTL:PT1H
BEGIN:VTIMEZONE
TZID:America/New_York
BEGIN:DAYLIGHT
TZOFFSETFROM:-0500
TZOFFSETTO:-0400
TZNAME:EDT
DTSTART:20220313T070000
END:DAYLIGHT
BEGIN:STANDARD
TZOFFSETFROM:-0400
TZOFFSETTO:-0500
TZNAME:EST
DTSTART:20221106T060000
END:STANDARD
BEGIN:DAYLIGHT
TZOFFSETFROM:-0500
TZOFFSETTO:-0400
TZNAME:EDT
DTSTART:20230312T070000
END:DAYLIGHT
BEGIN:STANDARD
TZOFFSETFROM:-0400
TZOFFSETTO:-0500
TZNAME:EST
DTSTART:20231105T060000
END:STANDARD
BEGIN:DAYLIGHT
TZOFFSETFROM:-0500
TZOFFSETTO:-0400
TZNAME:EDT
DTSTART:20240310T070000
END:DAYLIGHT
BEGIN:STANDARD
TZOFFSETFROM:-0400
TZOFFSETTO:-0500
TZNAME:EST
DTSTART:20241103T060000
END:STANDARD
END:VTIMEZONE
BEGIN:VEVENT
DTSTART;TZID=America/New_York:20230425T173000
DTEND;TZID=America/New_York:20230425T183000
DTSTAMP:20260422T144433
CREATED:20230414T175853Z
LAST-MODIFIED:20230414T180005Z
UID:10000147-1682443800-1682447400@downtownferndale.com
SUMMARY:Ribbon Cutting at Bakehouse46
DESCRIPTION:Who: All are welcome to join the ribbon cutting celebration to welcome Bakehouse46 to Downtown Ferndale at the corner of West Nine and Allen!\nWhat: Neighborhood Cafe & Bakery who specializes in Gourmet Cupcakes\, Cider Mill Donuts\, Bagel Sammies and Coffee! Bakehouse 46 started as a collaboration with Cupcake Station and Blake Farms. We wanted to bring the best of both worlds to the community. We have been happily a member of the community with Cupcake Station and are so excited to share our new space and offering with everyone!\nWhere: 301 W Nine Mile Rd\, Ferndale\, MI 48220\nWhen: Tuesday\, April 25 from 530 to 630\, with ribbon cutting at 5:45 PM\nVehicle Parking: Parking is available on West Troy at The Dot parking garage.
URL:https://downtownferndale.com/event/ribbon-cutting-at-bakehouse46/
LOCATION:Bakehouse46\, 301 West Nine Mile\, Ferndale\, MI\, 48220\, United States
CATEGORIES:Community Event,Events
ATTACH;FMTTYPE=image/png:https://downtownferndale.com/wp-content/uploads/2022/12/ribbon-cutting-graphic.png
END:VEVENT
END:VCALENDAR