BEGIN:VCALENDAR
VERSION:2.0
PRODID:-//Downtown Ferndale - ECPv6.15.20//NONSGML v1.0//EN
CALSCALE:GREGORIAN
METHOD:PUBLISH
X-WR-CALNAME:Downtown Ferndale
X-ORIGINAL-URL:https://downtownferndale.com
X-WR-CALDESC:Events for Downtown Ferndale
REFRESH-INTERVAL;VALUE=DURATION:PT1H
X-Robots-Tag:noindex
X-PUBLISHED-TTL:PT1H
BEGIN:VTIMEZONE
TZID:America/New_York
BEGIN:DAYLIGHT
TZOFFSETFROM:-0500
TZOFFSETTO:-0400
TZNAME:EDT
DTSTART:20240310T070000
END:DAYLIGHT
BEGIN:STANDARD
TZOFFSETFROM:-0400
TZOFFSETTO:-0500
TZNAME:EST
DTSTART:20241103T060000
END:STANDARD
BEGIN:DAYLIGHT
TZOFFSETFROM:-0500
TZOFFSETTO:-0400
TZNAME:EDT
DTSTART:20250309T070000
END:DAYLIGHT
BEGIN:STANDARD
TZOFFSETFROM:-0400
TZOFFSETTO:-0500
TZNAME:EST
DTSTART:20251102T060000
END:STANDARD
BEGIN:DAYLIGHT
TZOFFSETFROM:-0500
TZOFFSETTO:-0400
TZNAME:EDT
DTSTART:20260308T070000
END:DAYLIGHT
BEGIN:STANDARD
TZOFFSETFROM:-0400
TZOFFSETTO:-0500
TZNAME:EST
DTSTART:20261101T060000
END:STANDARD
END:VTIMEZONE
BEGIN:VEVENT
DTSTART;TZID=America/New_York:20251206T140000
DTEND;TZID=America/New_York:20251206T160000
DTSTAMP:20260420T005612
CREATED:20251118T181129Z
LAST-MODIFIED:20251118T181504Z
UID:10000672-1765029600-1765036800@downtownferndale.com
SUMMARY:Santa at Schiffer
DESCRIPTION:We’re so excited for this fun and merry celebration in the heart of Downtown Ferndale! Santa arrives in town at 1 PM and will leave at 4 PM from Schiffer Park
URL:https://downtownferndale.com/event/santa-at-schiffer-2/
LOCATION:Schiffer Park\, Ferndale\, MI\, 48220\, United States
CATEGORIES:Events
ATTACH;FMTTYPE=image/png:https://downtownferndale.com/wp-content/uploads/2025/11/Website-Event-Images-7-e1763489669181.png
GEO:42.460657522435;-83.139369111592
END:VEVENT
END:VCALENDAR