BEGIN:VCALENDAR
VERSION:2.0
PRODID:-//Downtown Ferndale - ECPv6.15.20//NONSGML v1.0//EN
CALSCALE:GREGORIAN
METHOD:PUBLISH
X-ORIGINAL-URL:https://downtownferndale.com
X-WR-CALDESC:Events for Downtown Ferndale
REFRESH-INTERVAL;VALUE=DURATION:PT1H
X-Robots-Tag:noindex
X-PUBLISHED-TTL:PT1H
BEGIN:VTIMEZONE
TZID:America/New_York
BEGIN:DAYLIGHT
TZOFFSETFROM:-0500
TZOFFSETTO:-0400
TZNAME:EDT
DTSTART:20230312T070000
END:DAYLIGHT
BEGIN:STANDARD
TZOFFSETFROM:-0400
TZOFFSETTO:-0500
TZNAME:EST
DTSTART:20231105T060000
END:STANDARD
BEGIN:DAYLIGHT
TZOFFSETFROM:-0500
TZOFFSETTO:-0400
TZNAME:EDT
DTSTART:20240310T070000
END:DAYLIGHT
BEGIN:STANDARD
TZOFFSETFROM:-0400
TZOFFSETTO:-0500
TZNAME:EST
DTSTART:20241103T060000
END:STANDARD
BEGIN:DAYLIGHT
TZOFFSETFROM:-0500
TZOFFSETTO:-0400
TZNAME:EDT
DTSTART:20250309T070000
END:DAYLIGHT
BEGIN:STANDARD
TZOFFSETFROM:-0400
TZOFFSETTO:-0500
TZNAME:EST
DTSTART:20251102T060000
END:STANDARD
END:VTIMEZONE
BEGIN:VEVENT
DTSTART;TZID=America/New_York:20241018T183000
DTEND;TZID=America/New_York:20241018T213000
DTSTAMP:20260422T214058
CREATED:20241002T120317Z
LAST-MODIFIED:20241025T174719Z
UID:10000614-1729276200-1729287000@downtownferndale.com
SUMMARY:Outdoor Movie Night
DESCRIPTION:We’re so excited for this fun and merry celebration in the heart of Downtown Ferndale! Santa arrives in town at 1 PM and will leave at 4 PM from Schiffer Park
URL:https://downtownferndale.com/event/outdoor-movie-night/
LOCATION:MI
ATTACH;FMTTYPE=image/png:https://downtownferndale.com/wp-content/uploads/2024/10/GOOD-1-e1727870673247.png
END:VEVENT
BEGIN:VEVENT
DTSTART;TZID=America/New_York:20241026T150000
DTEND;TZID=America/New_York:20241026T170000
DTSTAMP:20260422T214058
CREATED:20241002T121259Z
LAST-MODIFIED:20241025T175527Z
UID:10000615-1729954800-1729962000@downtownferndale.com
SUMMARY:Trick or Treat
DESCRIPTION:We’re so excited for this fun and merry celebration in the heart of Downtown Ferndale! Santa arrives in town at 1 PM and will leave at 4 PM from Schiffer Park
URL:https://downtownferndale.com/event/trick-or-treat/
LOCATION:MI
CATEGORIES:Events,Feature Event
ATTACH;FMTTYPE=image/png:https://downtownferndale.com/wp-content/uploads/2024/10/2024-Trick-or-Treat.png
END:VEVENT
END:VCALENDAR