BEGIN:VCALENDAR
VERSION:2.0
PRODID:-//Downtown Ferndale - ECPv6.15.20//NONSGML v1.0//EN
CALSCALE:GREGORIAN
METHOD:PUBLISH
X-WR-CALNAME:Downtown Ferndale
X-ORIGINAL-URL:https://downtownferndale.com
X-WR-CALDESC:Events for Downtown Ferndale
REFRESH-INTERVAL;VALUE=DURATION:PT1H
X-Robots-Tag:noindex
X-PUBLISHED-TTL:PT1H
BEGIN:VTIMEZONE
TZID:America/New_York
BEGIN:DAYLIGHT
TZOFFSETFROM:-0500
TZOFFSETTO:-0400
TZNAME:EDT
DTSTART:20240310T070000
END:DAYLIGHT
BEGIN:STANDARD
TZOFFSETFROM:-0400
TZOFFSETTO:-0500
TZNAME:EST
DTSTART:20241103T060000
END:STANDARD
BEGIN:DAYLIGHT
TZOFFSETFROM:-0500
TZOFFSETTO:-0400
TZNAME:EDT
DTSTART:20250309T070000
END:DAYLIGHT
BEGIN:STANDARD
TZOFFSETFROM:-0400
TZOFFSETTO:-0500
TZNAME:EST
DTSTART:20251102T060000
END:STANDARD
BEGIN:DAYLIGHT
TZOFFSETFROM:-0500
TZOFFSETTO:-0400
TZNAME:EDT
DTSTART:20260308T070000
END:DAYLIGHT
BEGIN:STANDARD
TZOFFSETFROM:-0400
TZOFFSETTO:-0500
TZNAME:EST
DTSTART:20261101T060000
END:STANDARD
END:VTIMEZONE
BEGIN:VEVENT
DTSTART;TZID=America/New_York:20250330T130000
DTEND;TZID=America/New_York:20250330T160000
DTSTAMP:20260422T103328
CREATED:20250321T172156Z
LAST-MODIFIED:20250321T172156Z
UID:10000623-1743339600-1743350400@downtownferndale.com
SUMMARY:Public Art Information Session
DESCRIPTION:DAY ONE | While shopping and dining in Downtown Ferndale this holiday season\, stop by Jingle & Mingle's Underground Holiday Market.
URL:https://downtownferndale.com/event/public-art-information-session/
LOCATION:Rust Belt Market\, 22801 Woodward Ave\, Ferndale\, MI\, 48220\, United States
CATEGORIES:Events,Feature Event
ATTACH;FMTTYPE=image/png:https://downtownferndale.com/wp-content/uploads/2025/03/ART-MARCH-2025-500-x-500-px.png
END:VEVENT
END:VCALENDAR