BEGIN:VCALENDAR
VERSION:2.0
PRODID:-//Downtown Ferndale - ECPv6.15.20//NONSGML v1.0//EN
CALSCALE:GREGORIAN
METHOD:PUBLISH
X-WR-CALNAME:Downtown Ferndale
X-ORIGINAL-URL:https://downtownferndale.com
X-WR-CALDESC:Events for Downtown Ferndale
REFRESH-INTERVAL;VALUE=DURATION:PT1H
X-Robots-Tag:noindex
X-PUBLISHED-TTL:PT1H
BEGIN:VTIMEZONE
TZID:America/New_York
BEGIN:DAYLIGHT
TZOFFSETFROM:-0500
TZOFFSETTO:-0400
TZNAME:EDT
DTSTART:20220313T070000
END:DAYLIGHT
BEGIN:STANDARD
TZOFFSETFROM:-0400
TZOFFSETTO:-0500
TZNAME:EST
DTSTART:20221106T060000
END:STANDARD
BEGIN:DAYLIGHT
TZOFFSETFROM:-0500
TZOFFSETTO:-0400
TZNAME:EDT
DTSTART:20230312T070000
END:DAYLIGHT
BEGIN:STANDARD
TZOFFSETFROM:-0400
TZOFFSETTO:-0500
TZNAME:EST
DTSTART:20231105T060000
END:STANDARD
BEGIN:DAYLIGHT
TZOFFSETFROM:-0500
TZOFFSETTO:-0400
TZNAME:EDT
DTSTART:20240310T070000
END:DAYLIGHT
BEGIN:STANDARD
TZOFFSETFROM:-0400
TZOFFSETTO:-0500
TZNAME:EST
DTSTART:20241103T060000
END:STANDARD
END:VTIMEZONE
BEGIN:VEVENT
DTSTART;TZID=America/New_York:20230502T110000
DTEND;TZID=America/New_York:20230502T120000
DTSTAMP:20260424T231446
CREATED:20220629T184639Z
LAST-MODIFIED:20230309T165024Z
UID:10000104-1683025200-1683028800@downtownferndale.com
SUMMARY:Business Beat Monthly Meetup
DESCRIPTION:Share your thoughts on the preliminary designs for Downtown Wayfinding for an upcoming project in 2026
URL:https://downtownferndale.com/event/business-beat-monthly-meetup-2022-09-06/2023-05-02/
LOCATION:Ferndale Area District Library\, 222 East Nine Mile Road\, Ferndale\, MI\, 48220\, United States
CATEGORIES:Business Beat Monthly Meetups,Meetings
ATTACH;FMTTYPE=image/png:https://downtownferndale.com/wp-content/uploads/2022/06/Ferndale-Business-Beat.png
ORGANIZER;CN="Downtown Ferndale":MAILTO:info@downtownferndale.com
END:VEVENT
BEGIN:VEVENT
DTSTART;TZID=America/New_York:20230502T180000
DTEND;TZID=America/New_York:20230502T193000
DTSTAMP:20260424T231446
CREATED:20230127T181006Z
LAST-MODIFIED:20230628T123835Z
UID:10000134-1683050400-1683055800@downtownferndale.com
SUMMARY:Downtown Volunteers Meeting: Vision Commitee
DESCRIPTION:Share your thoughts on the preliminary designs for Downtown Wayfinding for an upcoming project in 2026
URL:https://downtownferndale.com/event/downtown-volunteers-meeting-vision-commitee/2023-05-02/
LOCATION:Ferndale DDA Office\, City Hall\, 300 East Nine Mile Road\, Ferndale\, MI\, 48220\, United States
CATEGORIES:Volunteers Meeting: Vision Committee
ATTACH;FMTTYPE=image/jpeg:https://downtownferndale.com/wp-content/uploads/2020/03/FerndaleLogo_Black.jpg
ORGANIZER;CN="Downtown Ferndale":MAILTO:info@downtownferndale.com
END:VEVENT
BEGIN:VEVENT
DTSTART;TZID=America/New_York:20230506T120000
DTEND;TZID=America/New_York:20230506T230000
DTSTAMP:20260424T231446
CREATED:20230417T190224Z
LAST-MODIFIED:20230417T190327Z
UID:10000149-1683374400-1683414000@downtownferndale.com
SUMMARY:Cinco de Mayo Festival | SATURDAY | Downtown Ferndale
DESCRIPTION:Share your thoughts on the preliminary designs for Downtown Wayfinding for an upcoming project in 2026
URL:https://downtownferndale.com/event/cinco-de-mayo-festival-saturday-downtown-ferndale/
LOCATION:Mezcal\, 201 East Nine Mile\, Ferndale\, MI\, 48220\, United States
CATEGORIES:Community Event,Events
ATTACH;FMTTYPE=image/jpeg:https://downtownferndale.com/wp-content/uploads/2023/04/mezcal-cinco-scaled-e1681757661737.jpg
ORGANIZER;CN="Mezcal":MAILTO:mezcalferndalesocial@gmail.com
END:VEVENT
BEGIN:VEVENT
DTSTART;TZID=America/New_York:20230511T080000
DTEND;TZID=America/New_York:20230511T110000
DTSTAMP:20260424T231446
CREATED:20220622T213848Z
LAST-MODIFIED:20221201T150900Z
UID:10000087-1683792000-1683802800@downtownferndale.com
SUMMARY:DDA Board of Directors Meeting
DESCRIPTION:Share your thoughts on the preliminary designs for Downtown Wayfinding for an upcoming project in 2026
URL:https://downtownferndale.com/event/dda-board-of-directors-meeting/2023-05-11/
LOCATION:Ferndale City Hall\, 300 East Nine Mile Road\, Ferndale\, MI\, 48220\, United States
CATEGORIES:DDA Board of Directors,Meetings
ATTACH;FMTTYPE=image/jpeg:https://downtownferndale.com/wp-content/uploads/2020/03/DDA-logo.jpg
ORGANIZER;CN="Downtown Ferndale":MAILTO:info@downtownferndale.com
END:VEVENT
BEGIN:VEVENT
DTSTART;TZID=America/New_York:20230513T090000
DTEND;TZID=America/New_York:20230513T140000
DTSTAMP:20260424T231446
CREATED:20230417T193609Z
LAST-MODIFIED:20230417T193723Z
UID:10000150-1683968400-1683986400@downtownferndale.com
SUMMARY:Recycling Drop-Off Station & Plant Exchange | (City Hall Lot #11)
DESCRIPTION:Share your thoughts on the preliminary designs for Downtown Wayfinding for an upcoming project in 2026
URL:https://downtownferndale.com/event/recycling-drop-off-station-plant-exchange-city-hall-lot-11/
LOCATION:Ferndale City Hall\, 300 East Nine Mile Road\, Ferndale\, MI\, 48220\, United States
CATEGORIES:Community Event,Events
ATTACH;FMTTYPE=image/jpeg:https://downtownferndale.com/wp-content/uploads/2023/04/recycling-day.jpg
END:VEVENT
BEGIN:VEVENT
DTSTART;TZID=America/New_York:20230520T110000
DTEND;TZID=America/New_York:20230520T180000
DTSTAMP:20260424T231446
CREATED:20230424T235117Z
LAST-MODIFIED:20230515T184214Z
UID:10000161-1684580400-1684605600@downtownferndale.com
SUMMARY:Spring Fever: Downtown Plant & Flower Market
DESCRIPTION:Share your thoughts on the preliminary designs for Downtown Wayfinding for an upcoming project in 2026
URL:https://downtownferndale.com/event/plants/
LOCATION:The dot\, 221 West Troy\, Ferndale\, MI\, 48220\, United States
CATEGORIES:Community Event,Events
ATTACH;FMTTYPE=image/png:https://downtownferndale.com/wp-content/uploads/2023/04/seedlings-indoor-plants-fresh-flowers-music-food-trucks-locally-owned-small-businesses.png
ORGANIZER;CN="Downtown Ferndale":MAILTO:info@downtownferndale.com
END:VEVENT
BEGIN:VEVENT
DTSTART;TZID=America/New_York:20230529T100000
DTEND;TZID=America/New_York:20230529T120000
DTSTAMP:20260424T231446
CREATED:20230417T195454Z
LAST-MODIFIED:20230418T111824Z
UID:10000151-1685354400-1685361600@downtownferndale.com
SUMMARY:Memorial Day Parade | New Route | Beyond Downtown
DESCRIPTION:Share your thoughts on the preliminary designs for Downtown Wayfinding for an upcoming project in 2026
URL:https://downtownferndale.com/event/memorial-day-parade-new-parade-route-beyond-downtown/
LOCATION:MI
CATEGORIES:Community Event,Events
ATTACH;FMTTYPE=image/png:https://downtownferndale.com/wp-content/uploads/2023/04/2023-Memorial-Day-Parade-Route.png
END:VEVENT
END:VCALENDAR