BEGIN:VCALENDAR
VERSION:2.0
PRODID:-//Downtown Ferndale - ECPv6.15.20//NONSGML v1.0//EN
CALSCALE:GREGORIAN
METHOD:PUBLISH
X-ORIGINAL-URL:https://downtownferndale.com
X-WR-CALDESC:Events for Downtown Ferndale
REFRESH-INTERVAL;VALUE=DURATION:PT1H
X-Robots-Tag:noindex
X-PUBLISHED-TTL:PT1H
BEGIN:VTIMEZONE
TZID:America/New_York
BEGIN:DAYLIGHT
TZOFFSETFROM:-0500
TZOFFSETTO:-0400
TZNAME:EDT
DTSTART:20210314T070000
END:DAYLIGHT
BEGIN:STANDARD
TZOFFSETFROM:-0400
TZOFFSETTO:-0500
TZNAME:EST
DTSTART:20211107T060000
END:STANDARD
BEGIN:DAYLIGHT
TZOFFSETFROM:-0500
TZOFFSETTO:-0400
TZNAME:EDT
DTSTART:20220313T070000
END:DAYLIGHT
BEGIN:STANDARD
TZOFFSETFROM:-0400
TZOFFSETTO:-0500
TZNAME:EST
DTSTART:20221106T060000
END:STANDARD
BEGIN:DAYLIGHT
TZOFFSETFROM:-0500
TZOFFSETTO:-0400
TZNAME:EDT
DTSTART:20230312T070000
END:DAYLIGHT
BEGIN:STANDARD
TZOFFSETFROM:-0400
TZOFFSETTO:-0500
TZNAME:EST
DTSTART:20231105T060000
END:STANDARD
END:VTIMEZONE
BEGIN:VEVENT
DTSTART;TZID=America/New_York:20221001T070000
DTEND;TZID=America/New_York:20221001T110000
DTSTAMP:20260424T142235
CREATED:20220812T180450Z
LAST-MODIFIED:20220812T180739Z
UID:10000114-1664607600-1664622000@downtownferndale.com
SUMMARY:Ferndale Fall Festival
DESCRIPTION:Share your thoughts on the preliminary designs for Downtown Wayfinding for an upcoming project in 2026
URL:https://downtownferndale.com/event/6754/
LOCATION:Martin Road Park\, 1615 E Lewiston Ave\, Ferndale\, MI\, 48220\, United States
CATEGORIES:Community Event,Events
ATTACH;FMTTYPE=image/jpeg:https://downtownferndale.com/wp-content/uploads/2022/08/IMG_5416-scaled.jpg
ORGANIZER;CN="Ferndale Parks & Recreatio":MAILTO:mkrausch@ferndalemi.gov
END:VEVENT
BEGIN:VEVENT
DTSTART;TZID=America/New_York:20221004T110000
DTEND;TZID=America/New_York:20221004T120000
DTSTAMP:20260424T142235
CREATED:20220629T184639Z
LAST-MODIFIED:20230309T165024Z
UID:10000100-1664881200-1664884800@downtownferndale.com
SUMMARY:Business Beat Monthly Meetup
DESCRIPTION:Share your thoughts on the preliminary designs for Downtown Wayfinding for an upcoming project in 2026
URL:https://downtownferndale.com/event/business-beat-monthly-meetup-2022-09-06/2022-10-04/
LOCATION:Ferndale Area District Library\, 222 East Nine Mile Road\, Ferndale\, MI\, 48220\, United States
CATEGORIES:Business Beat Monthly Meetups,Meetings
ATTACH;FMTTYPE=image/png:https://downtownferndale.com/wp-content/uploads/2022/06/Ferndale-Business-Beat.png
ORGANIZER;CN="Downtown Ferndale":MAILTO:info@downtownferndale.com
END:VEVENT
BEGIN:VEVENT
DTSTART;TZID=America/New_York:20221013T080000
DTEND;TZID=America/New_York:20221013T110000
DTSTAMP:20260424T142235
CREATED:20220622T213848Z
LAST-MODIFIED:20221201T150900Z
UID:10000081-1665648000-1665658800@downtownferndale.com
SUMMARY:DDA Board of Directors Meeting
DESCRIPTION:Share your thoughts on the preliminary designs for Downtown Wayfinding for an upcoming project in 2026
URL:https://downtownferndale.com/event/dda-board-of-directors-meeting/2022-10-13/
LOCATION:Ferndale City Hall\, 300 East Nine Mile Road\, Ferndale\, MI\, 48220\, United States
CATEGORIES:DDA Board of Directors,Meetings
ATTACH;FMTTYPE=image/jpeg:https://downtownferndale.com/wp-content/uploads/2020/03/DDA-logo.jpg
ORGANIZER;CN="Downtown Ferndale":MAILTO:info@downtownferndale.com
END:VEVENT
BEGIN:VEVENT
DTSTART;TZID=America/New_York:20221021T200000
DTEND;TZID=America/New_York:20221030T200000
DTSTAMP:20260424T142235
CREATED:20220927T225622Z
LAST-MODIFIED:20221022T135242Z
UID:10000122-1666382400-1667160000@downtownferndale.com
SUMMARY:3rd Annual Hallowindow
DESCRIPTION:Share your thoughts on the preliminary designs for Downtown Wayfinding for an upcoming project in 2026
URL:https://downtownferndale.com/event/3rd-annual-hallowindow/
LOCATION:Downtown Ferndale\, Woodward Ave. & Nine Mile\, Ferndale\, MI\, 48220\, United States
CATEGORIES:Community Event,Events
ATTACH;FMTTYPE=image/png:https://downtownferndale.com/wp-content/uploads/2022/09/Hallowindow-e1664305029670.png
END:VEVENT
BEGIN:VEVENT
DTSTART;TZID=America/New_York:20221029T110000
DTEND;TZID=America/New_York:20221029T130000
DTSTAMP:20260424T142235
CREATED:20220927T231427Z
LAST-MODIFIED:20221029T074150Z
UID:10000123-1667041200-1667048400@downtownferndale.com
SUMMARY:Trick or Treat in Downtown Ferndale!
DESCRIPTION:Share your thoughts on the preliminary designs for Downtown Wayfinding for an upcoming project in 2026
URL:https://downtownferndale.com/event/trick-or-treat-in-downtown-ferndale/
LOCATION:Downtown Ferndale\, Woodward Ave. & Nine Mile\, Ferndale\, MI\, 48220\, United States
CATEGORIES:Community Event,Events
ATTACH;FMTTYPE=image/jpeg:https://downtownferndale.com/wp-content/uploads/2022/09/Trick-or-Treat-Square.jpg
END:VEVENT
END:VCALENDAR