BEGIN:VCALENDAR
VERSION:2.0
PRODID:-//Downtown Ferndale - ECPv6.15.20//NONSGML v1.0//EN
CALSCALE:GREGORIAN
METHOD:PUBLISH
X-WR-CALNAME:Downtown Ferndale
X-ORIGINAL-URL:https://downtownferndale.com
X-WR-CALDESC:Events for Downtown Ferndale
REFRESH-INTERVAL;VALUE=DURATION:PT1H
X-Robots-Tag:noindex
X-PUBLISHED-TTL:PT1H
BEGIN:VTIMEZONE
TZID:America/New_York
BEGIN:DAYLIGHT
TZOFFSETFROM:-0500
TZOFFSETTO:-0400
TZNAME:EDT
DTSTART:20210314T070000
END:DAYLIGHT
BEGIN:STANDARD
TZOFFSETFROM:-0400
TZOFFSETTO:-0500
TZNAME:EST
DTSTART:20211107T060000
END:STANDARD
BEGIN:DAYLIGHT
TZOFFSETFROM:-0500
TZOFFSETTO:-0400
TZNAME:EDT
DTSTART:20220313T070000
END:DAYLIGHT
BEGIN:STANDARD
TZOFFSETFROM:-0400
TZOFFSETTO:-0500
TZNAME:EST
DTSTART:20221106T060000
END:STANDARD
BEGIN:DAYLIGHT
TZOFFSETFROM:-0500
TZOFFSETTO:-0400
TZNAME:EDT
DTSTART:20230312T070000
END:DAYLIGHT
BEGIN:STANDARD
TZOFFSETFROM:-0400
TZOFFSETTO:-0500
TZNAME:EST
DTSTART:20231105T060000
END:STANDARD
END:VTIMEZONE
BEGIN:VEVENT
DTSTART;TZID=America/New_York:20220901T143000
DTEND;TZID=America/New_York:20220901T173000
DTSTAMP:20260424T131229
CREATED:20220804T202045Z
LAST-MODIFIED:20220830T002859Z
UID:10000111-1662042600-1662053400@downtownferndale.com
SUMMARY:Movies in the Park!
DESCRIPTION:Share your thoughts on the preliminary designs for Downtown Wayfinding for an upcoming project in 2026
URL:https://downtownferndale.com/event/movies-in-the-park/
LOCATION:Schiffer Park\, Ferndale\, MI\, 48220\, United States
CATEGORIES:Events
ATTACH;FMTTYPE=image/png:https://downtownferndale.com/wp-content/uploads/2022/06/Movies-General-Promo-Square-2.png
GEO:42.460657522435;-83.139369111592
END:VEVENT
BEGIN:VEVENT
DTSTART;TZID=America/New_York:20220906T110000
DTEND;TZID=America/New_York:20220906T120000
DTSTAMP:20260424T131229
CREATED:20220629T184639Z
LAST-MODIFIED:20230309T165024Z
UID:10000099-1662462000-1662465600@downtownferndale.com
SUMMARY:Business Beat Monthly Meetup
DESCRIPTION:Share your thoughts on the preliminary designs for Downtown Wayfinding for an upcoming project in 2026
URL:https://downtownferndale.com/event/business-beat-monthly-meetup-2022-09-06/2022-09-06/
LOCATION:Ferndale Area District Library\, 222 East Nine Mile Road\, Ferndale\, MI\, 48220\, United States
CATEGORIES:Business Beat Monthly Meetups,Meetings
ATTACH;FMTTYPE=image/png:https://downtownferndale.com/wp-content/uploads/2022/06/Ferndale-Business-Beat.png
ORGANIZER;CN="Downtown Ferndale":MAILTO:info@downtownferndale.com
END:VEVENT
BEGIN:VEVENT
DTSTART;TZID=America/New_York:20220908T080000
DTEND;TZID=America/New_York:20220908T110000
DTSTAMP:20260424T131229
CREATED:20220622T213848Z
LAST-MODIFIED:20221201T150900Z
UID:10000080-1662624000-1662634800@downtownferndale.com
SUMMARY:DDA Board of Directors Meeting
DESCRIPTION:Share your thoughts on the preliminary designs for Downtown Wayfinding for an upcoming project in 2026
URL:https://downtownferndale.com/event/dda-board-of-directors-meeting/2022-09-08/
LOCATION:Ferndale City Hall\, 300 East Nine Mile Road\, Ferndale\, MI\, 48220\, United States
CATEGORIES:DDA Board of Directors,Meetings
ATTACH;FMTTYPE=image/jpeg:https://downtownferndale.com/wp-content/uploads/2020/03/DDA-logo.jpg
ORGANIZER;CN="Downtown Ferndale":MAILTO:info@downtownferndale.com
END:VEVENT
BEGIN:VEVENT
DTSTART;TZID=America/New_York:20220913T130000
DTEND;TZID=America/New_York:20220913T140000
DTSTAMP:20260424T131229
CREATED:20220902T005950Z
LAST-MODIFIED:20220912T221440Z
UID:10000116-1663074000-1663077600@downtownferndale.com
SUMMARY:Let's Celebrate!
DESCRIPTION:Share your thoughts on the preliminary designs for Downtown Wayfinding for an upcoming project in 2026
URL:https://downtownferndale.com/event/lets-celebrate-3/
LOCATION:MI
CATEGORIES:Events
ATTACH;FMTTYPE=image/png:https://downtownferndale.com/wp-content/uploads/2022/08/Untitled-design-6.png
END:VEVENT
BEGIN:VEVENT
DTSTART;TZID=America/New_York:20220916T130000
DTEND;TZID=America/New_York:20220916T160000
DTSTAMP:20260424T131229
CREATED:20220907T181916Z
LAST-MODIFIED:20220914T214047Z
UID:10000117-1663333200-1663344000@downtownferndale.com
SUMMARY:JARS x Joey Salamon Mural Unveiling Celebration
DESCRIPTION:Share your thoughts on the preliminary designs for Downtown Wayfinding for an upcoming project in 2026
URL:https://downtownferndale.com/event/jars-x-joey-salamon-mural-unveiling-celebration/
LOCATION:Withington Alley\, 159 Withington St\, Ferndale\, MI\, 48220\, United States
CATEGORIES:Events
ATTACH;FMTTYPE=image/png:https://downtownferndale.com/wp-content/uploads/2022/09/Ribbon-Cutting-2.png
END:VEVENT
BEGIN:VEVENT
DTSTART;TZID=America/New_York:20220921T140000
DTEND;TZID=America/New_York:20220921T170000
DTSTAMP:20260424T131229
CREATED:20220902T003640Z
LAST-MODIFIED:20220902T003640Z
UID:10000115-1663768800-1663779600@downtownferndale.com
SUMMARY:Let's Celebrate!
DESCRIPTION:Share your thoughts on the preliminary designs for Downtown Wayfinding for an upcoming project in 2026
URL:https://downtownferndale.com/event/lets-celebrate-2/
LOCATION:The dot\, 221 West Troy\, Ferndale\, MI\, 48220\, United States
CATEGORIES:Events
ATTACH;FMTTYPE=image/png:https://downtownferndale.com/wp-content/uploads/2022/08/Untitled-design-6.png
END:VEVENT
BEGIN:VEVENT
DTSTART;TZID=America/New_York:20220923T110000
DTEND;TZID=America/New_York:20220925T140000
DTSTAMP:20260424T131229
CREATED:20220919T200014Z
LAST-MODIFIED:20220919T204823Z
UID:10000119-1663930800-1664114400@downtownferndale.com
SUMMARY:Funky Ferndale Art Fair
DESCRIPTION:Share your thoughts on the preliminary designs for Downtown Wayfinding for an upcoming project in 2026
URL:https://downtownferndale.com/event/funky-ferndale-art-fair/
LOCATION:Downtown Ferndale\, Woodward Ave. & Nine Mile\, Ferndale\, MI\, 48220\, United States
CATEGORIES:Events
ATTACH;FMTTYPE=image/jpeg:https://downtownferndale.com/wp-content/uploads/2022/09/FFAF-e1663604713590.jpg
END:VEVENT
BEGIN:VEVENT
DTSTART;TZID=America/New_York:20220923T140000
DTEND;TZID=America/New_York:20220925T170000
DTSTAMP:20260424T131229
CREATED:20220919T203157Z
LAST-MODIFIED:20220919T204802Z
UID:10000121-1663941600-1664125200@downtownferndale.com
SUMMARY:DIY Street Fair
DESCRIPTION:Share your thoughts on the preliminary designs for Downtown Wayfinding for an upcoming project in 2026
URL:https://downtownferndale.com/event/diy-street-fair/
LOCATION:Downtown Ferndale\, Woodward Ave. & Nine Mile\, Ferndale\, MI\, 48220\, United States
CATEGORIES:Events
ATTACH;FMTTYPE=image/jpeg:https://downtownferndale.com/wp-content/uploads/2022/09/DIY-street-e1663604838301.jpg
END:VEVENT
BEGIN:VEVENT
DTSTART;TZID=America/New_York:20220925T110000
DTEND;TZID=America/New_York:20220925T120000
DTSTAMP:20260424T131229
CREATED:20220919T201258Z
LAST-MODIFIED:20220919T201457Z
UID:10000120-1664103600-1664107200@downtownferndale.com
SUMMARY:Nine on Nine Encore Performance
DESCRIPTION:Share your thoughts on the preliminary designs for Downtown Wayfinding for an upcoming project in 2026
URL:https://downtownferndale.com/event/nine-on-nine-encore-performance/
LOCATION:Schiffer Park\, Ferndale\, MI\, 48220\, United States
CATEGORIES:Events
ATTACH;FMTTYPE=image/png:https://downtownferndale.com/wp-content/uploads/2022/09/Copy-of-2022-Nine-on-Nine-Square-2-e1663603931978.png
GEO:42.460657522435;-83.139369111592
END:VEVENT
BEGIN:VEVENT
DTSTART;TZID=America/New_York:20220928T130000
DTEND;TZID=America/New_York:20220928T140000
DTSTAMP:20260424T131229
CREATED:20220916T172354Z
LAST-MODIFIED:20220916T172354Z
UID:10000118-1664370000-1664373600@downtownferndale.com
SUMMARY:Let's Celebrate!
DESCRIPTION:Share your thoughts on the preliminary designs for Downtown Wayfinding for an upcoming project in 2026
URL:https://downtownferndale.com/event/lets-celebrate-4/
LOCATION:Olive’s Bloombox\, 262 W. Nine Mile\, Ferndale\, MI\, 48220\, United States
CATEGORIES:Events
ATTACH;FMTTYPE=image/png:https://downtownferndale.com/wp-content/uploads/2022/08/Untitled-design-6.png
END:VEVENT
END:VCALENDAR