BEGIN:VCALENDAR
VERSION:2.0
PRODID:-//Downtown Ferndale - ECPv6.15.20//NONSGML v1.0//EN
CALSCALE:GREGORIAN
METHOD:PUBLISH
X-ORIGINAL-URL:https://downtownferndale.com
X-WR-CALDESC:Events for Downtown Ferndale
REFRESH-INTERVAL;VALUE=DURATION:PT1H
X-Robots-Tag:noindex
X-PUBLISHED-TTL:PT1H
BEGIN:VTIMEZONE
TZID:America/New_York
BEGIN:DAYLIGHT
TZOFFSETFROM:-0500
TZOFFSETTO:-0400
TZNAME:EDT
DTSTART:20210314T070000
END:DAYLIGHT
BEGIN:STANDARD
TZOFFSETFROM:-0400
TZOFFSETTO:-0500
TZNAME:EST
DTSTART:20211107T060000
END:STANDARD
BEGIN:DAYLIGHT
TZOFFSETFROM:-0500
TZOFFSETTO:-0400
TZNAME:EDT
DTSTART:20220313T070000
END:DAYLIGHT
BEGIN:STANDARD
TZOFFSETFROM:-0400
TZOFFSETTO:-0500
TZNAME:EST
DTSTART:20221106T060000
END:STANDARD
BEGIN:DAYLIGHT
TZOFFSETFROM:-0500
TZOFFSETTO:-0400
TZNAME:EDT
DTSTART:20230312T070000
END:DAYLIGHT
BEGIN:STANDARD
TZOFFSETFROM:-0400
TZOFFSETTO:-0500
TZNAME:EST
DTSTART:20231105T060000
END:STANDARD
END:VTIMEZONE
BEGIN:VEVENT
DTSTART;TZID=America/New_York:20220804T130000
DTEND;TZID=America/New_York:20220804T140000
DTSTAMP:20260424T142235
CREATED:20220627T225458Z
LAST-MODIFIED:20220804T202937Z
UID:10000096-1659618000-1659621600@downtownferndale.com
SUMMARY:CANCELLED: Yoga at Schiffer Park
DESCRIPTION:Share your thoughts on the preliminary designs for Downtown Wayfinding for an upcoming project in 2026
URL:https://downtownferndale.com/event/yoga-at-schiffer-park-2/
LOCATION:MI
CATEGORIES:Community Event,Events
ATTACH;FMTTYPE=image/png:https://downtownferndale.com/wp-content/uploads/2022/06/Untitled-Facebook-Post-2.png
END:VEVENT
BEGIN:VEVENT
DTSTART;TZID=America/New_York:20220804T153000
DTEND;TZID=America/New_York:20220804T173000
DTSTAMP:20260424T142235
CREATED:20220627T190640Z
LAST-MODIFIED:20220804T205308Z
UID:10000091-1659627000-1659634200@downtownferndale.com
SUMMARY:POSTPONED: Movies in Parks!
DESCRIPTION:Share your thoughts on the preliminary designs for Downtown Wayfinding for an upcoming project in 2026
URL:https://downtownferndale.com/event/movies-in-parks-2022-08-04/
LOCATION:Schiffer Park\, Ferndale\, MI\, 48220\, United States
CATEGORIES:Community Event,Events
ATTACH;FMTTYPE=image/png:https://downtownferndale.com/wp-content/uploads/2022/06/Movies-General-Promo-Square-1280-×-720-px-1-1.png
GEO:42.460657522435;-83.139369111592
END:VEVENT
BEGIN:VEVENT
DTSTART;TZID=America/New_York:20220807T120000
DTEND;TZID=America/New_York:20220807T140000
DTSTAMP:20260424T142235
CREATED:20220727T192351Z
LAST-MODIFIED:20220727T213724Z
UID:10000110-1659873600-1659880800@downtownferndale.com
SUMMARY:Nine on Nine - Final Performance of 2022!
DESCRIPTION:Share your thoughts on the preliminary designs for Downtown Wayfinding for an upcoming project in 2026
URL:https://downtownferndale.com/event/nine-on-nine-final-performance-of-2022/
LOCATION:Schiffer Park\, Ferndale\, MI\, 48220\, United States
CATEGORIES:Events
ATTACH;FMTTYPE=image/jpeg:https://downtownferndale.com/wp-content/uploads/2022/03/sdfgsfrgsdfg-scaled-e1658935414654.jpg
GEO:42.460657522435;-83.139369111592
END:VEVENT
BEGIN:VEVENT
DTSTART;TZID=America/New_York:20220809T070000
DTEND;TZID=America/New_York:20220809T080000
DTSTAMP:20260424T142235
CREATED:20220629T184639Z
LAST-MODIFIED:20220719T000240Z
UID:10000098-1660028400-1660032000@downtownferndale.com
SUMMARY:Business Beat Monthly Meetup
DESCRIPTION:Share your thoughts on the preliminary designs for Downtown Wayfinding for an upcoming project in 2026
URL:https://downtownferndale.com/event/business-beat-monthly-meetup/
LOCATION:Ferndale Area District Library\, 222 East Nine Mile Road\, Ferndale\, MI\, 48220\, United States
CATEGORIES:Business Beat Monthly Meetups,Meetings
ATTACH;FMTTYPE=image/png:https://downtownferndale.com/wp-content/uploads/2022/06/Ferndale-Business-Beat.png
ORGANIZER;CN="Downtown Ferndale":MAILTO:info@downtownferndale.com
END:VEVENT
BEGIN:VEVENT
DTSTART;TZID=America/New_York:20220818T163000
DTEND;TZID=America/New_York:20220818T180000
DTSTAMP:20260424T142235
CREATED:20220627T194248Z
LAST-MODIFIED:20220629T182939Z
UID:10000094-1660840200-1660845600@downtownferndale.com
SUMMARY:Movies in the Parks!
DESCRIPTION:Share your thoughts on the preliminary designs for Downtown Wayfinding for an upcoming project in 2026
URL:https://downtownferndale.com/event/movies-in-the-parks/
LOCATION:Harding Park\, Wolcott Street & Mapledale Street\, Ferndale\, Michigan\, 48220\, United States
CATEGORIES:Community Event,Events
ATTACH;FMTTYPE=image/png:https://downtownferndale.com/wp-content/uploads/2022/06/Movies-General-Promo-Square-1280-×-720-px-1-1.png
END:VEVENT
BEGIN:VEVENT
DTSTART;TZID=America/New_York:20220819T090000
DTEND;TZID=America/New_York:20220820T170000
DTSTAMP:20260424T142235
CREATED:20220727T183622Z
LAST-MODIFIED:20220809T165607Z
UID:10000109-1660899600-1661014800@downtownferndale.com
SUMMARY:Ferndale Dream Cruise 2022
DESCRIPTION:Share your thoughts on the preliminary designs for Downtown Wayfinding for an upcoming project in 2026
URL:https://downtownferndale.com/event/ferndale-dream-cruise-2022/
LOCATION:Downtown Ferndale\, Woodward Ave. & Nine Mile\, Ferndale\, MI\, 48220\, United States
CATEGORIES:Events,Feature Event
ATTACH;FMTTYPE=image/png:https://downtownferndale.com/wp-content/uploads/2022/07/FWDC_Logo_Color_2022-e1658933400963.png
ORGANIZER;CN="Ferndale Dream Cruise":MAILTO:dreamcruise@ferndalemi.gov
END:VEVENT
BEGIN:VEVENT
DTSTART;TZID=America/New_York:20220824T130000
DTEND;TZID=America/New_York:20220824T140000
DTSTAMP:20260424T142235
CREATED:20220810T000703Z
LAST-MODIFIED:20220810T004128Z
UID:10000112-1661346000-1661349600@downtownferndale.com
SUMMARY:Let's Celebrate!
DESCRIPTION:Share your thoughts on the preliminary designs for Downtown Wayfinding for an upcoming project in 2026
URL:https://downtownferndale.com/event/ribbon-cutting-for-the-living-room-hair-lounge/
LOCATION:The Living Room Hair Lounge\, 22747 Woodward\, Ferndale\, MI\, 48220\, United States
CATEGORIES:Events
ATTACH;FMTTYPE=image/png:https://downtownferndale.com/wp-content/uploads/2022/08/Untitled-design-6.png
END:VEVENT
BEGIN:VEVENT
DTSTART;TZID=America/New_York:20220825T130000
DTEND;TZID=America/New_York:20220825T140000
DTSTAMP:20260424T142235
CREATED:20220810T003051Z
LAST-MODIFIED:20220811T160131Z
UID:10000113-1661432400-1661436000@downtownferndale.com
SUMMARY:Let's Celebrate!
DESCRIPTION:Share your thoughts on the preliminary designs for Downtown Wayfinding for an upcoming project in 2026
URL:https://downtownferndale.com/event/lets-celebrate/
LOCATION:Star of India\, 180 West Nine Mile\, Ferndale\, MI\, United States
CATEGORIES:Events
ATTACH;FMTTYPE=image/png:https://downtownferndale.com/wp-content/uploads/2022/08/Untitled-design-6.png
END:VEVENT
END:VCALENDAR