BEGIN:VCALENDAR
VERSION:2.0
PRODID:-//Downtown Ferndale - ECPv6.15.20//NONSGML v1.0//EN
CALSCALE:GREGORIAN
METHOD:PUBLISH
X-ORIGINAL-URL:https://downtownferndale.com
X-WR-CALDESC:Events for Downtown Ferndale
REFRESH-INTERVAL;VALUE=DURATION:PT1H
X-Robots-Tag:noindex
X-PUBLISHED-TTL:PT1H
BEGIN:VTIMEZONE
TZID:America/New_York
BEGIN:DAYLIGHT
TZOFFSETFROM:-0500
TZOFFSETTO:-0400
TZNAME:EDT
DTSTART:20210314T070000
END:DAYLIGHT
BEGIN:STANDARD
TZOFFSETFROM:-0400
TZOFFSETTO:-0500
TZNAME:EST
DTSTART:20211107T060000
END:STANDARD
BEGIN:DAYLIGHT
TZOFFSETFROM:-0500
TZOFFSETTO:-0400
TZNAME:EDT
DTSTART:20220313T070000
END:DAYLIGHT
BEGIN:STANDARD
TZOFFSETFROM:-0400
TZOFFSETTO:-0500
TZNAME:EST
DTSTART:20221106T060000
END:STANDARD
BEGIN:DAYLIGHT
TZOFFSETFROM:-0500
TZOFFSETTO:-0400
TZNAME:EDT
DTSTART:20230312T070000
END:DAYLIGHT
BEGIN:STANDARD
TZOFFSETFROM:-0400
TZOFFSETTO:-0500
TZNAME:EST
DTSTART:20231105T060000
END:STANDARD
END:VTIMEZONE
BEGIN:VEVENT
DTSTART;TZID=America/New_York:20220703T120000
DTEND;TZID=America/New_York:20220703T130000
DTSTAMP:20260424T153547
CREATED:20220321T190248Z
LAST-MODIFIED:20220727T191149Z
UID:10000072-1656849600-1656853200@downtownferndale.com
SUMMARY:Nine on Nine Free Concert Series
DESCRIPTION:Share your thoughts on the preliminary designs for Downtown Wayfinding for an upcoming project in 2026
URL:https://downtownferndale.com/event/nine-on-nine-free-concert-series/2022-07-03/
LOCATION:Schiffer Park\, Ferndale\, MI\, 48220\, United States
CATEGORIES:Community Event,Events
ATTACH;FMTTYPE=image/jpeg:https://downtownferndale.com/wp-content/uploads/2022/03/sdfgsfrgsdfg-scaled-e1658935414654.jpg
ORGANIZER;CN="Downtown Ferndale":MAILTO:info@downtownferndale.com
GEO:42.460657522435;-83.139369111592
END:VEVENT
BEGIN:VEVENT
DTSTART;TZID=America/New_York:20220707T130000
DTEND;TZID=America/New_York:20220707T140000
DTSTAMP:20260424T153547
CREATED:20220627T224537Z
LAST-MODIFIED:20220629T182903Z
UID:10000095-1657198800-1657202400@downtownferndale.com
SUMMARY:Yoga at Schiffer Park
DESCRIPTION:Share your thoughts on the preliminary designs for Downtown Wayfinding for an upcoming project in 2026
URL:https://downtownferndale.com/event/yoga-at-schiffer-park/
LOCATION:MI
CATEGORIES:Community Event,Events
ATTACH;FMTTYPE=image/png:https://downtownferndale.com/wp-content/uploads/2022/06/Untitled-Facebook-Post-2.png
END:VEVENT
BEGIN:VEVENT
DTSTART;TZID=America/New_York:20220707T193000
DTEND;TZID=America/New_York:20220707T213000
DTSTAMP:20260424T153547
CREATED:20220627T190640Z
LAST-MODIFIED:20220629T183331Z
UID:10000090-1657222200-1657229400@downtownferndale.com
SUMMARY:Movies in Parks!
DESCRIPTION:Share your thoughts on the preliminary designs for Downtown Wayfinding for an upcoming project in 2026
URL:https://downtownferndale.com/event/movies-in-parks/2022-07-07/
LOCATION:Schiffer Park\, Ferndale\, MI\, 48220\, United States
CATEGORIES:Community Event,Events
ATTACH;FMTTYPE=image/png:https://downtownferndale.com/wp-content/uploads/2022/06/Movies-General-Promo-Square-1280-×-720-px-1-1.png
GEO:42.460657522435;-83.139369111592
END:VEVENT
BEGIN:VEVENT
DTSTART;TZID=America/New_York:20220710T120000
DTEND;TZID=America/New_York:20220710T130000
DTSTAMP:20260424T153547
CREATED:20220321T190248Z
LAST-MODIFIED:20220727T191149Z
UID:10000073-1657454400-1657458000@downtownferndale.com
SUMMARY:Nine on Nine Free Concert Series
DESCRIPTION:Share your thoughts on the preliminary designs for Downtown Wayfinding for an upcoming project in 2026
URL:https://downtownferndale.com/event/nine-on-nine-free-concert-series/2022-07-10/
LOCATION:Schiffer Park\, Ferndale\, MI\, 48220\, United States
CATEGORIES:Community Event,Events
ATTACH;FMTTYPE=image/jpeg:https://downtownferndale.com/wp-content/uploads/2022/03/sdfgsfrgsdfg-scaled-e1658935414654.jpg
ORGANIZER;CN="Downtown Ferndale":MAILTO:info@downtownferndale.com
GEO:42.460657522435;-83.139369111592
END:VEVENT
BEGIN:VEVENT
DTSTART;TZID=America/New_York:20220712T070000
DTEND;TZID=America/New_York:20220712T080000
DTSTAMP:20260424T153547
CREATED:20220629T184040Z
LAST-MODIFIED:20220707T180704Z
UID:10000097-1657609200-1657612800@downtownferndale.com
SUMMARY:Business Beat Monthly Meetup
DESCRIPTION:Share your thoughts on the preliminary designs for Downtown Wayfinding for an upcoming project in 2026
URL:https://downtownferndale.com/event/monthly-business-beat-meetup/
LOCATION:Ferndale Area District Library\, 222 East Nine Mile Road\, Ferndale\, MI\, 48220\, United States
CATEGORIES:Business Beat Monthly Meetups,Meetings
ATTACH;FMTTYPE=image/png:https://downtownferndale.com/wp-content/uploads/2022/06/Ferndale-Business-Beat.png
ORGANIZER;CN="Downtown Ferndale":MAILTO:info@downtownferndale.com
END:VEVENT
BEGIN:VEVENT
DTSTART;TZID=America/New_York:20220714T080000
DTEND;TZID=America/New_York:20220714T110000
DTSTAMP:20260424T153547
CREATED:20220622T213848Z
LAST-MODIFIED:20221201T150900Z
UID:10000079-1657785600-1657796400@downtownferndale.com
SUMMARY:DDA Board of Directors Meeting
DESCRIPTION:Share your thoughts on the preliminary designs for Downtown Wayfinding for an upcoming project in 2026
URL:https://downtownferndale.com/event/dda-board-of-directors-meeting/2022-07-14/
LOCATION:Ferndale City Hall\, 300 East Nine Mile Road\, Ferndale\, MI\, 48220\, United States
CATEGORIES:DDA Board of Directors,Meetings
ATTACH;FMTTYPE=image/jpeg:https://downtownferndale.com/wp-content/uploads/2020/03/DDA-logo.jpg
ORGANIZER;CN="Downtown Ferndale":MAILTO:info@downtownferndale.com
END:VEVENT
BEGIN:VEVENT
DTSTART;TZID=America/New_York:20220717T120000
DTEND;TZID=America/New_York:20220717T130000
DTSTAMP:20260424T153547
CREATED:20220321T190248Z
LAST-MODIFIED:20220727T191149Z
UID:10000074-1658059200-1658062800@downtownferndale.com
SUMMARY:Nine on Nine Free Concert Series
DESCRIPTION:Share your thoughts on the preliminary designs for Downtown Wayfinding for an upcoming project in 2026
URL:https://downtownferndale.com/event/nine-on-nine-free-concert-series/2022-07-17/
LOCATION:Schiffer Park\, Ferndale\, MI\, 48220\, United States
CATEGORIES:Community Event,Events
ATTACH;FMTTYPE=image/jpeg:https://downtownferndale.com/wp-content/uploads/2022/03/sdfgsfrgsdfg-scaled-e1658935414654.jpg
ORGANIZER;CN="Downtown Ferndale":MAILTO:info@downtownferndale.com
GEO:42.460657522435;-83.139369111592
END:VEVENT
BEGIN:VEVENT
DTSTART;TZID=America/New_York:20220721T163000
DTEND;TZID=America/New_York:20220721T180000
DTSTAMP:20260424T153547
CREATED:20220627T194108Z
LAST-MODIFIED:20220629T183020Z
UID:10000093-1658421000-1658426400@downtownferndale.com
SUMMARY:Movies in the Parks!
DESCRIPTION:Share your thoughts on the preliminary designs for Downtown Wayfinding for an upcoming project in 2026
URL:https://downtownferndale.com/event/6546/
LOCATION:Martin Road Park\, 1615 E Lewiston Ave\, Ferndale\, MI\, 48220\, United States
CATEGORIES:Community Event,Events
ATTACH;FMTTYPE=image/png:https://downtownferndale.com/wp-content/uploads/2022/06/Movies-General-Promo-Square-1280-×-720-px-1-1.png
END:VEVENT
BEGIN:VEVENT
DTSTART;TZID=America/New_York:20220724T120000
DTEND;TZID=America/New_York:20220724T130000
DTSTAMP:20260424T153547
CREATED:20220321T190248Z
LAST-MODIFIED:20220727T191149Z
UID:10000075-1658664000-1658667600@downtownferndale.com
SUMMARY:Nine on Nine Free Concert Series
DESCRIPTION:Share your thoughts on the preliminary designs for Downtown Wayfinding for an upcoming project in 2026
URL:https://downtownferndale.com/event/nine-on-nine-free-concert-series/2022-07-24/
LOCATION:Schiffer Park\, Ferndale\, MI\, 48220\, United States
CATEGORIES:Community Event,Events
ATTACH;FMTTYPE=image/jpeg:https://downtownferndale.com/wp-content/uploads/2022/03/sdfgsfrgsdfg-scaled-e1658935414654.jpg
ORGANIZER;CN="Downtown Ferndale":MAILTO:info@downtownferndale.com
GEO:42.460657522435;-83.139369111592
END:VEVENT
BEGIN:VEVENT
DTSTART;TZID=America/New_York:20220731T120000
DTEND;TZID=America/New_York:20220731T130000
DTSTAMP:20260424T153547
CREATED:20220321T190248Z
LAST-MODIFIED:20220727T191149Z
UID:10000076-1659268800-1659272400@downtownferndale.com
SUMMARY:Nine on Nine Free Concert Series
DESCRIPTION:Share your thoughts on the preliminary designs for Downtown Wayfinding for an upcoming project in 2026
URL:https://downtownferndale.com/event/nine-on-nine-free-concert-series/2022-07-31/
LOCATION:Schiffer Park\, Ferndale\, MI\, 48220\, United States
CATEGORIES:Community Event,Events
ATTACH;FMTTYPE=image/jpeg:https://downtownferndale.com/wp-content/uploads/2022/03/sdfgsfrgsdfg-scaled-e1658935414654.jpg
ORGANIZER;CN="Downtown Ferndale":MAILTO:info@downtownferndale.com
GEO:42.460657522435;-83.139369111592
END:VEVENT
END:VCALENDAR