BEGIN:VCALENDAR
VERSION:2.0
PRODID:-//Downtown Ferndale - ECPv6.15.20//NONSGML v1.0//EN
CALSCALE:GREGORIAN
METHOD:PUBLISH
X-WR-CALNAME:Downtown Ferndale
X-ORIGINAL-URL:https://downtownferndale.com
X-WR-CALDESC:Events for Downtown Ferndale
REFRESH-INTERVAL;VALUE=DURATION:PT1H
X-Robots-Tag:noindex
X-PUBLISHED-TTL:PT1H
BEGIN:VTIMEZONE
TZID:America/New_York
BEGIN:DAYLIGHT
TZOFFSETFROM:-0500
TZOFFSETTO:-0400
TZNAME:EDT
DTSTART:20220313T070000
END:DAYLIGHT
BEGIN:STANDARD
TZOFFSETFROM:-0400
TZOFFSETTO:-0500
TZNAME:EST
DTSTART:20221106T060000
END:STANDARD
BEGIN:DAYLIGHT
TZOFFSETFROM:-0500
TZOFFSETTO:-0400
TZNAME:EDT
DTSTART:20230312T070000
END:DAYLIGHT
BEGIN:STANDARD
TZOFFSETFROM:-0400
TZOFFSETTO:-0500
TZNAME:EST
DTSTART:20231105T060000
END:STANDARD
BEGIN:DAYLIGHT
TZOFFSETFROM:-0500
TZOFFSETTO:-0400
TZNAME:EDT
DTSTART:20240310T070000
END:DAYLIGHT
BEGIN:STANDARD
TZOFFSETFROM:-0400
TZOFFSETTO:-0500
TZNAME:EST
DTSTART:20241103T060000
END:STANDARD
END:VTIMEZONE
BEGIN:VEVENT
DTSTART;TZID=America/New_York:20231205T180000
DTEND;TZID=America/New_York:20231205T193000
DTSTAMP:20260419T201846
CREATED:20230719T161435Z
LAST-MODIFIED:20230719T161435Z
UID:10000141-1701799200-1701804600@downtownferndale.com
SUMMARY:Downtown Volunteers Meeting: Vision Commitee
DESCRIPTION:Regular monthly meeting of the DDA Board of Directors. Open to the public.
URL:https://downtownferndale.com/event/downtown-volunteers-meeting-vision-commitee-3/2023-12-05/
LOCATION:Ferndale DDA Office\, City Hall\, 300 East Nine Mile Road\, Ferndale\, MI\, 48220\, United States
ATTACH;FMTTYPE=image/jpeg:https://downtownferndale.com/wp-content/uploads/2020/03/FerndaleLogo_Black.jpg
ORGANIZER;CN="Downtown Ferndale":MAILTO:info@downtownferndale.com
END:VEVENT
BEGIN:VEVENT
DTSTART;TZID=America/New_York:20231205T110000
DTEND;TZID=America/New_York:20231205T120000
DTSTAMP:20260419T201846
CREATED:20230808T191746Z
LAST-MODIFIED:20230808T191926Z
UID:10000359-1701774000-1701777600@downtownferndale.com
SUMMARY:Business Beat Monthly Meetup
DESCRIPTION:Regular monthly meeting of the DDA Board of Directors. Open to the public.
URL:https://downtownferndale.com/event/business-beat-monthly-meetup-2-2/2023-12-05/
LOCATION:Ferndale Area District Library\, 222 East Nine Mile Road\, Ferndale\, MI\, 48220\, United States
CATEGORIES:Business Beat Monthly Meetups,Meetings
ATTACH;FMTTYPE=image/png:https://downtownferndale.com/wp-content/uploads/2022/06/Ferndale-Business-Beat.png
ORGANIZER;CN="Downtown Ferndale":MAILTO:info@downtownferndale.com
END:VEVENT
BEGIN:VEVENT
DTSTART;TZID=America/New_York:20231202T140000
DTEND;TZID=America/New_York:20231202T160000
DTSTAMP:20260419T201846
CREATED:20231119T171956Z
LAST-MODIFIED:20231119T171956Z
UID:10000426-1701525600-1701532800@downtownferndale.com
SUMMARY:Santa at Schiffer
DESCRIPTION:Regular monthly meeting of the DDA Board of Directors. Open to the public.
URL:https://downtownferndale.com/event/santa-at-schiffer/
LOCATION:Schiffer Park\, Ferndale\, MI\, 48220\, United States
CATEGORIES:Events,Feature Event
ATTACH;FMTTYPE=image/png:https://downtownferndale.com/wp-content/uploads/2023/11/Untitled-design-46.png
GEO:42.460657522435;-83.139369111592
END:VEVENT
BEGIN:VEVENT
DTSTART;TZID=America/New_York:20231119T110000
DTEND;TZID=America/New_York:20231119T180000
DTSTAMP:20260419T201846
CREATED:20231016T183853Z
LAST-MODIFIED:20231106T191531Z
UID:10000424-1700391600-1700416800@downtownferndale.com
SUMMARY:Jingle & Mingle + Underground Market
DESCRIPTION:Regular monthly meeting of the DDA Board of Directors. Open to the public.
URL:https://downtownferndale.com/event/jingle-mingle-underground-market-2/
LOCATION:The dot\, 221 West Troy\, Ferndale\, MI\, 48220\, United States
CATEGORIES:Community Event,Events,Feature Event
ATTACH;FMTTYPE=image/png:https://downtownferndale.com/wp-content/uploads/2023/10/Jingle-Mingle-Market-1.png
END:VEVENT
BEGIN:VEVENT
DTSTART;TZID=America/New_York:20231118T100000
DTEND;TZID=America/New_York:20231118T210000
DTSTAMP:20260419T201846
CREATED:20231010T160454Z
LAST-MODIFIED:20231106T191445Z
UID:10000420-1700301600-1700341200@downtownferndale.com
SUMMARY:Jingle & Mingle + Underground Market
DESCRIPTION:Regular monthly meeting of the DDA Board of Directors. Open to the public.
URL:https://downtownferndale.com/event/jingle-mingle-underground-market/
LOCATION:The dot\, 221 West Troy\, Ferndale\, MI\, 48220\, United States
CATEGORIES:Events
ATTACH;FMTTYPE=image/png:https://downtownferndale.com/wp-content/uploads/2023/10/Jingle-Mingle-Market-1.png
END:VEVENT
BEGIN:VEVENT
DTSTART;TZID=America/New_York:20231109T083000
DTEND;TZID=America/New_York:20231109T110000
DTSTAMP:20260419T201846
CREATED:20230714T161239Z
LAST-MODIFIED:20260106T182159Z
UID:10000520-1699518600-1699527600@downtownferndale.com
SUMMARY:DDA Board of Directors Meeting
DESCRIPTION:Regular monthly meeting of the DDA Board of Directors. Open to the public.
URL:https://downtownferndale.com/event/dda-board-of-directors-meeting-3/2023-11-09/
LOCATION:Ferndale City Hall\, 300 East Nine Mile Road\, Ferndale\, MI\, 48220\, United States
CATEGORIES:DDA Board of Directors,Meetings
ATTACH;FMTTYPE=image/jpeg:https://downtownferndale.com/wp-content/uploads/2020/03/DDA-logo.jpg
ORGANIZER;CN="Downtown Ferndale":MAILTO:info@downtownferndale.com
END:VEVENT
BEGIN:VEVENT
DTSTART;TZID=America/New_York:20231107T180000
DTEND;TZID=America/New_York:20231107T193000
DTSTAMP:20260419T201846
CREATED:20230719T161435Z
LAST-MODIFIED:20230719T161435Z
UID:10000140-1699380000-1699385400@downtownferndale.com
SUMMARY:Downtown Volunteers Meeting: Vision Commitee
DESCRIPTION:Regular monthly meeting of the DDA Board of Directors. Open to the public.
URL:https://downtownferndale.com/event/downtown-volunteers-meeting-vision-commitee-3/2023-11-07/
LOCATION:Ferndale DDA Office\, City Hall\, 300 East Nine Mile Road\, Ferndale\, MI\, 48220\, United States
ATTACH;FMTTYPE=image/jpeg:https://downtownferndale.com/wp-content/uploads/2020/03/FerndaleLogo_Black.jpg
ORGANIZER;CN="Downtown Ferndale":MAILTO:info@downtownferndale.com
END:VEVENT
BEGIN:VEVENT
DTSTART;TZID=America/New_York:20231028T150000
DTEND;TZID=America/New_York:20231028T170000
DTSTAMP:20260419T201846
CREATED:20230926T135026Z
LAST-MODIFIED:20231027T134204Z
UID:10000419-1698505200-1698512400@downtownferndale.com
SUMMARY:Trick -or- Treat Downtown
DESCRIPTION:Regular monthly meeting of the DDA Board of Directors. Open to the public.
URL:https://downtownferndale.com/event/trick-or-treat-downtown/
LOCATION:Downtown Ferndale\, Woodward Ave. & Nine Mile\, Ferndale\, MI\, 48220\, United States
CATEGORIES:Events
ATTACH;FMTTYPE=image/png:https://downtownferndale.com/wp-content/uploads/2023/09/TnT-2023.png
END:VEVENT
BEGIN:VEVENT
DTSTART;TZID=America/New_York:20231014T120000
DTEND;TZID=America/New_York:20231014T220000
DTSTAMP:20260419T201846
CREATED:20230906T212446Z
LAST-MODIFIED:20231014T170950Z
UID:10000417-1697284800-1697320800@downtownferndale.com
SUMMARY:Let's Celebrate the Creative Energy! Downtown Ferndale Art Walk
DESCRIPTION:Regular monthly meeting of the DDA Board of Directors. Open to the public.
URL:https://downtownferndale.com/event/lets-celebrate-the-creative-energy-downtown-ferndale-art-walk/
LOCATION:Downtown Ferndale\, Woodward Ave. & Nine Mile\, Ferndale\, MI\, 48220\, United States
CATEGORIES:Events,Feature Event
ATTACH;FMTTYPE=image/jpeg:https://downtownferndale.com/wp-content/uploads/2023/09/Art-Walk-Thumbnail.jpg
END:VEVENT
BEGIN:VEVENT
DTSTART;TZID=America/New_York:20231013T170000
DTEND;TZID=America/New_York:20231013T220000
DTSTAMP:20260419T201846
CREATED:20230912T124837Z
LAST-MODIFIED:20230920T193212Z
UID:10000418-1697216400-1697234400@downtownferndale.com
SUMMARY:Double Feature Movie Night
DESCRIPTION:Regular monthly meeting of the DDA Board of Directors. Open to the public.
URL:https://downtownferndale.com/event/double-feature-movie-night/
LOCATION:Downtown Ferndale\, Woodward Ave. & Nine Mile\, Ferndale\, MI\, 48220\, United States
CATEGORIES:Events
ATTACH;FMTTYPE=image/png:https://downtownferndale.com/wp-content/uploads/2023/09/Untitled-design-43.png
END:VEVENT
BEGIN:VEVENT
DTSTART;TZID=America/New_York:20231012T083000
DTEND;TZID=America/New_York:20231012T110000
DTSTAMP:20260419T201846
CREATED:20230714T161239Z
LAST-MODIFIED:20260106T182159Z
UID:10000519-1697099400-1697108400@downtownferndale.com
SUMMARY:DDA Board of Directors Meeting
DESCRIPTION:Regular monthly meeting of the DDA Board of Directors. Open to the public.
URL:https://downtownferndale.com/event/dda-board-of-directors-meeting-3/2023-10-12/
LOCATION:Ferndale City Hall\, 300 East Nine Mile Road\, Ferndale\, MI\, 48220\, United States
CATEGORIES:DDA Board of Directors,Meetings
ATTACH;FMTTYPE=image/jpeg:https://downtownferndale.com/wp-content/uploads/2020/03/DDA-logo.jpg
ORGANIZER;CN="Downtown Ferndale":MAILTO:info@downtownferndale.com
END:VEVENT
BEGIN:VEVENT
DTSTART;TZID=America/New_York:20231003T110000
DTEND;TZID=America/New_York:20231003T120000
DTSTAMP:20260419T201846
CREATED:20230808T191746Z
LAST-MODIFIED:20230808T191926Z
UID:10000356-1696330800-1696334400@downtownferndale.com
SUMMARY:Business Beat Monthly Meetup
DESCRIPTION:Regular monthly meeting of the DDA Board of Directors. Open to the public.
URL:https://downtownferndale.com/event/business-beat-monthly-meetup-2-2/2023-10-03/
LOCATION:Ferndale Area District Library\, 222 East Nine Mile Road\, Ferndale\, MI\, 48220\, United States
CATEGORIES:Business Beat Monthly Meetups,Meetings
ATTACH;FMTTYPE=image/png:https://downtownferndale.com/wp-content/uploads/2022/06/Ferndale-Business-Beat.png
ORGANIZER;CN="Downtown Ferndale":MAILTO:info@downtownferndale.com
END:VEVENT
BEGIN:VEVENT
DTSTART;TZID=America/New_York:20230928T180000
DTEND;TZID=America/New_York:20230928T190000
DTSTAMP:20260419T201846
CREATED:20230626T220629Z
LAST-MODIFIED:20230925T131413Z
UID:10000164-1695924000-1695927600@downtownferndale.com
SUMMARY:DOWNTOWN FERNDALE STREET SOUNDS
DESCRIPTION:Regular monthly meeting of the DDA Board of Directors. Open to the public.
URL:https://downtownferndale.com/event/downtown-ferndale-street-sounds/
LOCATION:Schiffer Park\, Ferndale\, MI\, 48220\, United States
CATEGORIES:Events,Feature Event
ATTACH;FMTTYPE=image/jpeg:https://downtownferndale.com/wp-content/uploads/2023/06/FSS-logo2.jpg
GEO:42.460657522435;-83.139369111592
END:VEVENT
BEGIN:VEVENT
DTSTART;TZID=America/New_York:20230914T083000
DTEND;TZID=America/New_York:20230914T110000
DTSTAMP:20260419T201846
CREATED:20230714T161239Z
LAST-MODIFIED:20260106T182159Z
UID:10000518-1694680200-1694689200@downtownferndale.com
SUMMARY:DDA Board of Directors Meeting
DESCRIPTION:Regular monthly meeting of the DDA Board of Directors. Open to the public.
URL:https://downtownferndale.com/event/dda-board-of-directors-meeting-3/2023-09-14/
LOCATION:Ferndale City Hall\, 300 East Nine Mile Road\, Ferndale\, MI\, 48220\, United States
CATEGORIES:DDA Board of Directors,Meetings
ATTACH;FMTTYPE=image/jpeg:https://downtownferndale.com/wp-content/uploads/2020/03/DDA-logo.jpg
ORGANIZER;CN="Downtown Ferndale":MAILTO:info@downtownferndale.com
END:VEVENT
BEGIN:VEVENT
DTSTART;TZID=America/New_York:20230905T180000
DTEND;TZID=America/New_York:20230905T193000
DTSTAMP:20260419T201846
CREATED:20230719T161435Z
LAST-MODIFIED:20230719T161435Z
UID:10000138-1693936800-1693942200@downtownferndale.com
SUMMARY:Downtown Volunteers Meeting: Vision Commitee
DESCRIPTION:Regular monthly meeting of the DDA Board of Directors. Open to the public.
URL:https://downtownferndale.com/event/downtown-volunteers-meeting-vision-commitee-3/2023-09-05/
LOCATION:Ferndale DDA Office\, City Hall\, 300 East Nine Mile Road\, Ferndale\, MI\, 48220\, United States
ATTACH;FMTTYPE=image/jpeg:https://downtownferndale.com/wp-content/uploads/2020/03/FerndaleLogo_Black.jpg
ORGANIZER;CN="Downtown Ferndale":MAILTO:info@downtownferndale.com
END:VEVENT
BEGIN:VEVENT
DTSTART;TZID=America/New_York:20230903T160000
DTEND;TZID=America/New_York:20230903T170000
DTSTAMP:20260419T201846
CREATED:20230424T135458Z
LAST-MODIFIED:20230801T211714Z
UID:10000160-1693756800-1693760400@downtownferndale.com
SUMMARY:Nine on Nine Concert Series
DESCRIPTION:Regular monthly meeting of the DDA Board of Directors. Open to the public.
URL:https://downtownferndale.com/event/nine-on-nine-concert-series/2023-09-03/
LOCATION:Schiffer Park\, Ferndale\, MI\, 48220\, United States
CATEGORIES:Community Event,Events
ATTACH;FMTTYPE=image/png:https://downtownferndale.com/wp-content/uploads/2023/04/NIneonNine-2023-Design-Facebook-Event-Cover.png
GEO:42.460657522435;-83.139369111592
END:VEVENT
BEGIN:VEVENT
DTSTART;TZID=America/New_York:20230827T160000
DTEND;TZID=America/New_York:20230827T170000
DTSTAMP:20260419T201846
CREATED:20230424T135458Z
LAST-MODIFIED:20230801T211714Z
UID:10000159-1693152000-1693155600@downtownferndale.com
SUMMARY:Nine on Nine Concert Series
DESCRIPTION:Regular monthly meeting of the DDA Board of Directors. Open to the public.
URL:https://downtownferndale.com/event/nine-on-nine-concert-series/2023-08-27/
LOCATION:Schiffer Park\, Ferndale\, MI\, 48220\, United States
CATEGORIES:Community Event,Events
ATTACH;FMTTYPE=image/png:https://downtownferndale.com/wp-content/uploads/2023/04/NIneonNine-2023-Design-Facebook-Event-Cover.png
GEO:42.460657522435;-83.139369111592
END:VEVENT
BEGIN:VEVENT
DTSTART;TZID=America/New_York:20230824T080000
DTEND;TZID=America/New_York:20230824T083000
DTSTAMP:20260419T201846
CREATED:20230817T125105Z
LAST-MODIFIED:20230817T125105Z
UID:10000416-1692864000-1692865800@downtownferndale.com
SUMMARY:Special Meeting DDA Board of Directors
DESCRIPTION:Regular monthly meeting of the DDA Board of Directors. Open to the public.
URL:https://downtownferndale.com/event/special-meeting-dda-board-of-directors/
LOCATION:Ferndale City Hall\, 300 East Nine Mile Road\, Ferndale\, MI\, 48220\, United States
CATEGORIES:DDA Board of Directors
ATTACH;FMTTYPE=image/jpeg:https://downtownferndale.com/wp-content/uploads/2020/03/FerndaleLogo_Black_edited-1.jpg
END:VEVENT
BEGIN:VEVENT
DTSTART;TZID=America/New_York:20230820T160000
DTEND;TZID=America/New_York:20230820T170000
DTSTAMP:20260419T201846
CREATED:20230424T135458Z
LAST-MODIFIED:20230801T211714Z
UID:10000158-1692547200-1692550800@downtownferndale.com
SUMMARY:Nine on Nine Concert Series
DESCRIPTION:Regular monthly meeting of the DDA Board of Directors. Open to the public.
URL:https://downtownferndale.com/event/nine-on-nine-concert-series/2023-08-20/
LOCATION:Schiffer Park\, Ferndale\, MI\, 48220\, United States
CATEGORIES:Community Event,Events
ATTACH;FMTTYPE=image/png:https://downtownferndale.com/wp-content/uploads/2023/04/NIneonNine-2023-Design-Facebook-Event-Cover.png
GEO:42.460657522435;-83.139369111592
END:VEVENT
BEGIN:VEVENT
DTSTART;TZID=America/New_York:20230813T160000
DTEND;TZID=America/New_York:20230813T170000
DTSTAMP:20260419T201846
CREATED:20230424T135458Z
LAST-MODIFIED:20230801T211714Z
UID:10000157-1691942400-1691946000@downtownferndale.com
SUMMARY:Nine on Nine Concert Series
DESCRIPTION:Regular monthly meeting of the DDA Board of Directors. Open to the public.
URL:https://downtownferndale.com/event/nine-on-nine-concert-series/2023-08-13/
LOCATION:Schiffer Park\, Ferndale\, MI\, 48220\, United States
CATEGORIES:Community Event,Events
ATTACH;FMTTYPE=image/png:https://downtownferndale.com/wp-content/uploads/2023/04/NIneonNine-2023-Design-Facebook-Event-Cover.png
GEO:42.460657522435;-83.139369111592
END:VEVENT
BEGIN:VEVENT
DTSTART;TZID=America/New_York:20230810T083000
DTEND;TZID=America/New_York:20230810T110000
DTSTAMP:20260419T201846
CREATED:20230714T161239Z
LAST-MODIFIED:20260106T182159Z
UID:10000517-1691656200-1691665200@downtownferndale.com
SUMMARY:DDA Board of Directors Meeting
DESCRIPTION:Regular monthly meeting of the DDA Board of Directors. Open to the public.
URL:https://downtownferndale.com/event/dda-board-of-directors-meeting-3/2023-08-10/
LOCATION:Ferndale City Hall\, 300 East Nine Mile Road\, Ferndale\, MI\, 48220\, United States
CATEGORIES:DDA Board of Directors,Meetings
ATTACH;FMTTYPE=image/jpeg:https://downtownferndale.com/wp-content/uploads/2020/03/DDA-logo.jpg
ORGANIZER;CN="Downtown Ferndale":MAILTO:info@downtownferndale.com
END:VEVENT
BEGIN:VEVENT
DTSTART;TZID=America/New_York:20230806T160000
DTEND;TZID=America/New_York:20230806T170000
DTSTAMP:20260419T201846
CREATED:20230424T135458Z
LAST-MODIFIED:20230801T211714Z
UID:10000156-1691337600-1691341200@downtownferndale.com
SUMMARY:Nine on Nine Concert Series
DESCRIPTION:Regular monthly meeting of the DDA Board of Directors. Open to the public.
URL:https://downtownferndale.com/event/nine-on-nine-concert-series/2023-08-06/
LOCATION:Schiffer Park\, Ferndale\, MI\, 48220\, United States
CATEGORIES:Community Event,Events
ATTACH;FMTTYPE=image/png:https://downtownferndale.com/wp-content/uploads/2023/04/NIneonNine-2023-Design-Facebook-Event-Cover.png
GEO:42.460657522435;-83.139369111592
END:VEVENT
BEGIN:VEVENT
DTSTART;TZID=America/New_York:20230801T110000
DTEND;TZID=America/New_York:20230801T120000
DTSTAMP:20260419T201846
CREATED:20230714T185007Z
LAST-MODIFIED:20230719T161401Z
UID:10000290-1690887600-1690891200@downtownferndale.com
SUMMARY:Business Beat Monthly Meetup
DESCRIPTION:Regular monthly meeting of the DDA Board of Directors. Open to the public.
URL:https://downtownferndale.com/event/business-beat-monthly-meetup-2/
LOCATION:Ferndale Area District Library\, 222 East Nine Mile Road\, Ferndale\, MI\, 48220\, United States
CATEGORIES:Business Beat Monthly Meetups,Meetings
ATTACH;FMTTYPE=image/png:https://downtownferndale.com/wp-content/uploads/2022/06/Ferndale-Business-Beat.png
ORGANIZER;CN="Downtown Ferndale":MAILTO:info@downtownferndale.com
END:VEVENT
BEGIN:VEVENT
DTSTART;TZID=America/New_York:20230730T160000
DTEND;TZID=America/New_York:20230730T170000
DTSTAMP:20260419T201846
CREATED:20230424T135458Z
LAST-MODIFIED:20230801T211714Z
UID:10000155-1690732800-1690736400@downtownferndale.com
SUMMARY:Nine on Nine Concert Series
DESCRIPTION:Regular monthly meeting of the DDA Board of Directors. Open to the public.
URL:https://downtownferndale.com/event/nine-on-nine-concert-series/2023-07-30/
LOCATION:Schiffer Park\, Ferndale\, MI\, 48220\, United States
CATEGORIES:Community Event,Events
ATTACH;FMTTYPE=image/png:https://downtownferndale.com/wp-content/uploads/2023/04/NIneonNine-2023-Design-Facebook-Event-Cover.png
GEO:42.460657522435;-83.139369111592
END:VEVENT
BEGIN:VEVENT
DTSTART;TZID=America/New_York:20230727T180000
DTEND;TZID=America/New_York:20230727T220000
DTSTAMP:20260419T201846
CREATED:20230626T220014Z
LAST-MODIFIED:20230724T182723Z
UID:10000163-1690480800-1690495200@downtownferndale.com
SUMMARY:Downtown Ferndale Street Sounds
DESCRIPTION:Regular monthly meeting of the DDA Board of Directors. Open to the public.
URL:https://downtownferndale.com/event/7756/
LOCATION:MI
CATEGORIES:Events,Feature Event
ATTACH;FMTTYPE=image/jpeg:https://downtownferndale.com/wp-content/uploads/2023/06/FSS-logo2.jpg
END:VEVENT
BEGIN:VEVENT
DTSTART;TZID=America/New_York:20230727T180000
DTEND;TZID=America/New_York:20230727T210000
DTSTAMP:20260419T201846
CREATED:20230714T172436Z
LAST-MODIFIED:20230714T172618Z
UID:10000235-1690480800-1690491600@downtownferndale.com
SUMMARY:Zone Ferndale Workshop: Downtown Design Open House
DESCRIPTION:Regular monthly meeting of the DDA Board of Directors. Open to the public.
URL:https://downtownferndale.com/event/zone-ferndale-workshop-downtown-design-open-house/
LOCATION:Schiffer Park\, Ferndale\, MI\, 48220\, United States
CATEGORIES:Community Event,Events
ATTACH;FMTTYPE=image/png:https://downtownferndale.com/wp-content/uploads/2023/07/Capture.png
GEO:42.460657522435;-83.139369111592
END:VEVENT
BEGIN:VEVENT
DTSTART;TZID=America/New_York:20230727T123000
DTEND;TZID=America/New_York:20230727T143000
DTSTAMP:20260419T201846
CREATED:20230714T171618Z
LAST-MODIFIED:20230714T172741Z
UID:10000232-1690461000-1690468200@downtownferndale.com
SUMMARY:Zone Ferndale Workshop: Downtown Design Walking Tour
DESCRIPTION:Regular monthly meeting of the DDA Board of Directors. Open to the public.
URL:https://downtownferndale.com/event/zone-ferndale-workshop-downtown-design-walking-tour-and-workshop/
LOCATION:Ferndale City Hall\, 300 East Nine Mile Road\, Ferndale\, MI\, 48220\, United States
CATEGORIES:Community Event,Events
ATTACH;FMTTYPE=image/png:https://downtownferndale.com/wp-content/uploads/2023/07/Capture.png
END:VEVENT
BEGIN:VEVENT
DTSTART;TZID=America/New_York:20230723T160000
DTEND;TZID=America/New_York:20230723T170000
DTSTAMP:20260419T201846
CREATED:20230424T135458Z
LAST-MODIFIED:20230801T211714Z
UID:10000154-1690128000-1690131600@downtownferndale.com
SUMMARY:Nine on Nine Concert Series
DESCRIPTION:Regular monthly meeting of the DDA Board of Directors. Open to the public.
URL:https://downtownferndale.com/event/nine-on-nine-concert-series/2023-07-23/
LOCATION:Schiffer Park\, Ferndale\, MI\, 48220\, United States
CATEGORIES:Community Event,Events
ATTACH;FMTTYPE=image/png:https://downtownferndale.com/wp-content/uploads/2023/04/NIneonNine-2023-Design-Facebook-Event-Cover.png
GEO:42.460657522435;-83.139369111592
END:VEVENT
BEGIN:VEVENT
DTSTART;TZID=America/New_York:20230722T120000
DTEND;TZID=America/New_York:20230722T153000
DTSTAMP:20260419T201846
CREATED:20230714T170912Z
LAST-MODIFIED:20230714T172044Z
UID:10000230-1690027200-1690039800@downtownferndale.com
SUMMARY:Zone Ferndale Workshop: Housing Diversity
DESCRIPTION:Regular monthly meeting of the DDA Board of Directors. Open to the public.
URL:https://downtownferndale.com/event/zone-ferndale-workshop-housing-diversity/
LOCATION:Urbanrest Brewing Co – Wolcott St\, 2615 Wolcott Street\, Ferndale\, MI\, 48220\, United States
CATEGORIES:Community Event,Events
ATTACH;FMTTYPE=image/png:https://downtownferndale.com/wp-content/uploads/2023/07/Capture.png
END:VEVENT
BEGIN:VEVENT
DTSTART;TZID=America/New_York:20230716T160000
DTEND;TZID=America/New_York:20230716T170000
DTSTAMP:20260419T201846
CREATED:20230424T135458Z
LAST-MODIFIED:20230801T211714Z
UID:10000153-1689523200-1689526800@downtownferndale.com
SUMMARY:Nine on Nine Concert Series
DESCRIPTION:Regular monthly meeting of the DDA Board of Directors. Open to the public.
URL:https://downtownferndale.com/event/nine-on-nine-concert-series/2023-07-16/
LOCATION:Schiffer Park\, Ferndale\, MI\, 48220\, United States
CATEGORIES:Community Event,Events
ATTACH;FMTTYPE=image/png:https://downtownferndale.com/wp-content/uploads/2023/04/NIneonNine-2023-Design-Facebook-Event-Cover.png
GEO:42.460657522435;-83.139369111592
END:VEVENT
END:VCALENDAR