BEGIN:VCALENDAR
VERSION:2.0
PRODID:-//Downtown Ferndale - ECPv6.15.20//NONSGML v1.0//EN
CALSCALE:GREGORIAN
METHOD:PUBLISH
X-WR-CALNAME:Downtown Ferndale
X-ORIGINAL-URL:https://downtownferndale.com
X-WR-CALDESC:Events for Downtown Ferndale
REFRESH-INTERVAL;VALUE=DURATION:PT1H
X-Robots-Tag:noindex
X-PUBLISHED-TTL:PT1H
BEGIN:VTIMEZONE
TZID:America/New_York
BEGIN:DAYLIGHT
TZOFFSETFROM:-0500
TZOFFSETTO:-0400
TZNAME:EDT
DTSTART:20230312T070000
END:DAYLIGHT
BEGIN:STANDARD
TZOFFSETFROM:-0400
TZOFFSETTO:-0500
TZNAME:EST
DTSTART:20231105T060000
END:STANDARD
BEGIN:DAYLIGHT
TZOFFSETFROM:-0500
TZOFFSETTO:-0400
TZNAME:EDT
DTSTART:20240310T070000
END:DAYLIGHT
BEGIN:STANDARD
TZOFFSETFROM:-0400
TZOFFSETTO:-0500
TZNAME:EST
DTSTART:20241103T060000
END:STANDARD
BEGIN:DAYLIGHT
TZOFFSETFROM:-0500
TZOFFSETTO:-0400
TZNAME:EDT
DTSTART:20250309T070000
END:DAYLIGHT
BEGIN:STANDARD
TZOFFSETFROM:-0400
TZOFFSETTO:-0500
TZNAME:EST
DTSTART:20251102T060000
END:STANDARD
BEGIN:DAYLIGHT
TZOFFSETFROM:-0500
TZOFFSETTO:-0400
TZNAME:EDT
DTSTART:20260308T070000
END:DAYLIGHT
BEGIN:STANDARD
TZOFFSETFROM:-0400
TZOFFSETTO:-0500
TZNAME:EST
DTSTART:20261101T060000
END:STANDARD
END:VTIMEZONE
BEGIN:VEVENT
DTSTART;TZID=America/New_York:20250213T083000
DTEND;TZID=America/New_York:20250213T110000
DTSTAMP:20260419T133737
CREATED:20230714T161239Z
LAST-MODIFIED:20260106T182159Z
UID:10000535-1739435400-1739444400@downtownferndale.com
SUMMARY:DDA Board of Directors Meeting
DESCRIPTION:Please join us in celebrating the 106th Memorial Day Parade and then visit Downtown Ferndale for shopping\, food & drinks!
URL:https://downtownferndale.com/event/dda-board-of-directors-meeting-3/2025-02-13/
LOCATION:Ferndale City Hall\, 300 East Nine Mile Road\, Ferndale\, MI\, 48220\, United States
CATEGORIES:DDA Board of Directors,Meetings
ATTACH;FMTTYPE=image/jpeg:https://downtownferndale.com/wp-content/uploads/2020/03/DDA-logo.jpg
ORGANIZER;CN="Downtown Ferndale":MAILTO:info@downtownferndale.com
END:VEVENT
BEGIN:VEVENT
DTSTART;TZID=America/New_York:20250109T083000
DTEND;TZID=America/New_York:20250109T110000
DTSTAMP:20260419T133737
CREATED:20230714T161239Z
LAST-MODIFIED:20260106T182159Z
UID:10000534-1736411400-1736420400@downtownferndale.com
SUMMARY:DDA Board of Directors Meeting
DESCRIPTION:Please join us in celebrating the 106th Memorial Day Parade and then visit Downtown Ferndale for shopping\, food & drinks!
URL:https://downtownferndale.com/event/dda-board-of-directors-meeting-3/2025-01-09/
LOCATION:Ferndale City Hall\, 300 East Nine Mile Road\, Ferndale\, MI\, 48220\, United States
CATEGORIES:DDA Board of Directors,Meetings
ATTACH;FMTTYPE=image/jpeg:https://downtownferndale.com/wp-content/uploads/2020/03/DDA-logo.jpg
ORGANIZER;CN="Downtown Ferndale":MAILTO:info@downtownferndale.com
END:VEVENT
BEGIN:VEVENT
DTSTART;TZID=America/New_York:20241212T083000
DTEND;TZID=America/New_York:20241212T110000
DTSTAMP:20260419T133737
CREATED:20230714T161239Z
LAST-MODIFIED:20260106T182159Z
UID:10000533-1733992200-1734001200@downtownferndale.com
SUMMARY:DDA Board of Directors Meeting
DESCRIPTION:Please join us in celebrating the 106th Memorial Day Parade and then visit Downtown Ferndale for shopping\, food & drinks!
URL:https://downtownferndale.com/event/dda-board-of-directors-meeting-3/2024-12-12/
LOCATION:Ferndale City Hall\, 300 East Nine Mile Road\, Ferndale\, MI\, 48220\, United States
CATEGORIES:DDA Board of Directors,Meetings
ATTACH;FMTTYPE=image/jpeg:https://downtownferndale.com/wp-content/uploads/2020/03/DDA-logo.jpg
ORGANIZER;CN="Downtown Ferndale":MAILTO:info@downtownferndale.com
END:VEVENT
BEGIN:VEVENT
DTSTART;TZID=America/New_York:20241207T140000
DTEND;TZID=America/New_York:20241207T160000
DTSTAMP:20260419T133737
CREATED:20241119T221506Z
LAST-MODIFIED:20241207T133249Z
UID:10000621-1733580000-1733587200@downtownferndale.com
SUMMARY:Santa at Schiffer Park
DESCRIPTION:Please join us in celebrating the 106th Memorial Day Parade and then visit Downtown Ferndale for shopping\, food & drinks!
URL:https://downtownferndale.com/event/santa-at-schiffer-park/
LOCATION:Schiffer Park\, Ferndale\, MI\, 48220\, United States
CATEGORIES:Events
GEO:42.460657522435;-83.139369111592
END:VEVENT
BEGIN:VEVENT
DTSTART;VALUE=DATE:20241130
DTEND;VALUE=DATE:20241201
DTSTAMP:20260419T133737
CREATED:20241119T222816Z
LAST-MODIFIED:20241122T201411Z
UID:10000622-1732924800-1733011199@downtownferndale.com
SUMMARY:Shop Small Saturday
DESCRIPTION:Please join us in celebrating the 106th Memorial Day Parade and then visit Downtown Ferndale for shopping\, food & drinks!
URL:https://downtownferndale.com/event/shop-small-saturday/
LOCATION:Michigan
CATEGORIES:Events
ATTACH;FMTTYPE=image/png:https://downtownferndale.com/wp-content/uploads/2024/11/SHOP-SMALL-WITH-US-ON-SMALL-BUSINESS-SATURDAY-2.png
END:VEVENT
BEGIN:VEVENT
DTSTART;TZID=America/New_York:20241119T183000
DTEND;TZID=America/New_York:20241119T193000
DTSTAMP:20260419T133737
CREATED:20241115T195923Z
LAST-MODIFIED:20241115T202003Z
UID:10000620-1732041000-1732044600@downtownferndale.com
SUMMARY:Ferndale Downtown Development Authority Public Information Session
DESCRIPTION:Please join us in celebrating the 106th Memorial Day Parade and then visit Downtown Ferndale for shopping\, food & drinks!
URL:https://downtownferndale.com/event/ferndale-downtown-development-authority-public-information-session/
LOCATION:FerndaleHaus\, 430 W Nine Mile Road\, Ferndale\, MI\, 48220\, United States
CATEGORIES:Events
ATTACH;FMTTYPE=image/png:https://downtownferndale.com/wp-content/uploads/2024/11/STICKERS-Downtown-Day-1.png
END:VEVENT
BEGIN:VEVENT
DTSTART;TZID=America/New_York:20241117T110000
DTEND;TZID=America/New_York:20241117T170000
DTSTAMP:20260419T133737
CREATED:20241008T151111Z
LAST-MODIFIED:20241008T151111Z
UID:10000619-1731841200-1731862800@downtownferndale.com
SUMMARY:Jingle & Mingle Underground Holiday Market (Sunday)
DESCRIPTION:Please join us in celebrating the 106th Memorial Day Parade and then visit Downtown Ferndale for shopping\, food & drinks!
URL:https://downtownferndale.com/event/jingle-mingle-underground-holiday-market-sunday-2/
LOCATION:The dot\, 221 West Troy\, Ferndale\, MI\, 48220\, United States
CATEGORIES:Events
END:VEVENT
BEGIN:VEVENT
DTSTART;TZID=America/New_York:20241116T100000
DTEND;TZID=America/New_York:20241116T190000
DTSTAMP:20260419T133737
CREATED:20241007T193112Z
LAST-MODIFIED:20241007T193616Z
UID:10000617-1731751200-1731783600@downtownferndale.com
SUMMARY:Jingle & Mingle Underground Holiday Market (Saturday)
DESCRIPTION:Please join us in celebrating the 106th Memorial Day Parade and then visit Downtown Ferndale for shopping\, food & drinks!
URL:https://downtownferndale.com/event/jingle-mingle-underground-holiday-market-saturday/
LOCATION:The dot\, 221 West Troy\, Ferndale\, MI\, 48220\, United States
CATEGORIES:Events
END:VEVENT
BEGIN:VEVENT
DTSTART;TZID=America/New_York:20241114T083000
DTEND;TZID=America/New_York:20241114T110000
DTSTAMP:20260419T133737
CREATED:20230714T161239Z
LAST-MODIFIED:20260106T182159Z
UID:10000532-1731573000-1731582000@downtownferndale.com
SUMMARY:DDA Board of Directors Meeting
DESCRIPTION:Please join us in celebrating the 106th Memorial Day Parade and then visit Downtown Ferndale for shopping\, food & drinks!
URL:https://downtownferndale.com/event/dda-board-of-directors-meeting-3/2024-11-14/
LOCATION:Ferndale City Hall\, 300 East Nine Mile Road\, Ferndale\, MI\, 48220\, United States
CATEGORIES:DDA Board of Directors,Meetings
ATTACH;FMTTYPE=image/jpeg:https://downtownferndale.com/wp-content/uploads/2020/03/DDA-logo.jpg
ORGANIZER;CN="Downtown Ferndale":MAILTO:info@downtownferndale.com
END:VEVENT
BEGIN:VEVENT
DTSTART;TZID=America/New_York:20241026T150000
DTEND;TZID=America/New_York:20241026T170000
DTSTAMP:20260419T133737
CREATED:20241002T121259Z
LAST-MODIFIED:20241025T175527Z
UID:10000615-1729954800-1729962000@downtownferndale.com
SUMMARY:Trick or Treat
DESCRIPTION:Please join us in celebrating the 106th Memorial Day Parade and then visit Downtown Ferndale for shopping\, food & drinks!
URL:https://downtownferndale.com/event/trick-or-treat/
LOCATION:Michigan
CATEGORIES:Events,Feature Event
ATTACH;FMTTYPE=image/png:https://downtownferndale.com/wp-content/uploads/2024/10/2024-Trick-or-Treat.png
END:VEVENT
BEGIN:VEVENT
DTSTART;TZID=America/New_York:20241018T183000
DTEND;TZID=America/New_York:20241018T213000
DTSTAMP:20260419T133738
CREATED:20241002T120317Z
LAST-MODIFIED:20241025T174719Z
UID:10000614-1729276200-1729287000@downtownferndale.com
SUMMARY:Outdoor Movie Night
DESCRIPTION:Please join us in celebrating the 106th Memorial Day Parade and then visit Downtown Ferndale for shopping\, food & drinks!
URL:https://downtownferndale.com/event/outdoor-movie-night/
LOCATION:Michigan
ATTACH;FMTTYPE=image/png:https://downtownferndale.com/wp-content/uploads/2024/10/GOOD-1-e1727870673247.png
END:VEVENT
BEGIN:VEVENT
DTSTART;TZID=America/New_York:20241010T083000
DTEND;TZID=America/New_York:20241010T110000
DTSTAMP:20260419T133738
CREATED:20230714T161239Z
LAST-MODIFIED:20260106T182159Z
UID:10000531-1728549000-1728558000@downtownferndale.com
SUMMARY:DDA Board of Directors Meeting
DESCRIPTION:Please join us in celebrating the 106th Memorial Day Parade and then visit Downtown Ferndale for shopping\, food & drinks!
URL:https://downtownferndale.com/event/dda-board-of-directors-meeting-3/2024-10-10/
LOCATION:Ferndale City Hall\, 300 East Nine Mile Road\, Ferndale\, MI\, 48220\, United States
CATEGORIES:DDA Board of Directors,Meetings
ATTACH;FMTTYPE=image/jpeg:https://downtownferndale.com/wp-content/uploads/2020/03/DDA-logo.jpg
ORGANIZER;CN="Downtown Ferndale":MAILTO:info@downtownferndale.com
END:VEVENT
BEGIN:VEVENT
DTSTART;VALUE=DATE:20240928
DTEND;VALUE=DATE:20240929
DTSTAMP:20260419T133738
CREATED:20240820T142114Z
LAST-MODIFIED:20240928T133833Z
UID:10000609-1727481600-1727567999@downtownferndale.com
SUMMARY:Michigan Downtown Day
DESCRIPTION:Please join us in celebrating the 106th Memorial Day Parade and then visit Downtown Ferndale for shopping\, food & drinks!
URL:https://downtownferndale.com/event/michigan-downtown-day/
LOCATION:Downtown Ferndale\, Woodward Ave. & Nine Mile\, Ferndale\, MI\, 48220\, United States
CATEGORIES:Events
ATTACH;FMTTYPE=image/png:https://downtownferndale.com/wp-content/uploads/2024/08/fall-in-love-with-1-1-e1726581292768.png
END:VEVENT
BEGIN:VEVENT
DTSTART;TZID=America/New_York:20240912T083000
DTEND;TZID=America/New_York:20240912T110000
DTSTAMP:20260419T133738
CREATED:20230714T161239Z
LAST-MODIFIED:20260106T182159Z
UID:10000530-1726129800-1726138800@downtownferndale.com
SUMMARY:DDA Board of Directors Meeting
DESCRIPTION:Please join us in celebrating the 106th Memorial Day Parade and then visit Downtown Ferndale for shopping\, food & drinks!
URL:https://downtownferndale.com/event/dda-board-of-directors-meeting-3/2024-09-12/
LOCATION:Ferndale City Hall\, 300 East Nine Mile Road\, Ferndale\, MI\, 48220\, United States
CATEGORIES:DDA Board of Directors,Meetings
ATTACH;FMTTYPE=image/jpeg:https://downtownferndale.com/wp-content/uploads/2020/03/DDA-logo.jpg
ORGANIZER;CN="Downtown Ferndale":MAILTO:info@downtownferndale.com
END:VEVENT
BEGIN:VEVENT
DTSTART;TZID=America/New_York:20240908T150000
DTEND;TZID=America/New_York:20240908T180000
DTSTAMP:20260419T133738
CREATED:20240502T231026Z
LAST-MODIFIED:20240821T132434Z
UID:10000602-1725807600-1725818400@downtownferndale.com
SUMMARY:Nine on Nine Concert Series
DESCRIPTION:Please join us in celebrating the 106th Memorial Day Parade and then visit Downtown Ferndale for shopping\, food & drinks!
URL:https://downtownferndale.com/event/nine-on-nine-concert-series-2/2024-09-08/
LOCATION:Schiffer Park\, Ferndale\, MI\, 48220\, United States
CATEGORIES:Events
ATTACH;FMTTYPE=image/png:https://downtownferndale.com/wp-content/uploads/2024/05/2024-THUMBNAIL-4-e1714691413916.png
GEO:42.460657522435;-83.139369111592
END:VEVENT
BEGIN:VEVENT
DTSTART;TZID=America/New_York:20240901T150000
DTEND;TZID=America/New_York:20240901T180000
DTSTAMP:20260419T133738
CREATED:20240502T231026Z
LAST-MODIFIED:20240821T132434Z
UID:10000601-1725202800-1725213600@downtownferndale.com
SUMMARY:Nine on Nine Concert Series
DESCRIPTION:Please join us in celebrating the 106th Memorial Day Parade and then visit Downtown Ferndale for shopping\, food & drinks!
URL:https://downtownferndale.com/event/nine-on-nine-concert-series-2/2024-09-01/
LOCATION:Schiffer Park\, Ferndale\, MI\, 48220\, United States
CATEGORIES:Events
ATTACH;FMTTYPE=image/png:https://downtownferndale.com/wp-content/uploads/2024/05/2024-THUMBNAIL-4-e1714691413916.png
GEO:42.460657522435;-83.139369111592
END:VEVENT
BEGIN:VEVENT
DTSTART;TZID=America/New_York:20240825T150000
DTEND;TZID=America/New_York:20240825T180000
DTSTAMP:20260419T133738
CREATED:20240502T231026Z
LAST-MODIFIED:20240821T132434Z
UID:10000600-1724598000-1724608800@downtownferndale.com
SUMMARY:Nine on Nine Concert Series
DESCRIPTION:Please join us in celebrating the 106th Memorial Day Parade and then visit Downtown Ferndale for shopping\, food & drinks!
URL:https://downtownferndale.com/event/nine-on-nine-concert-series-2/2024-08-25/
LOCATION:Schiffer Park\, Ferndale\, MI\, 48220\, United States
CATEGORIES:Events
ATTACH;FMTTYPE=image/png:https://downtownferndale.com/wp-content/uploads/2024/05/2024-THUMBNAIL-4-e1714691413916.png
GEO:42.460657522435;-83.139369111592
END:VEVENT
BEGIN:VEVENT
DTSTART;TZID=America/New_York:20240818T150000
DTEND;TZID=America/New_York:20240818T180000
DTSTAMP:20260419T133738
CREATED:20240502T231026Z
LAST-MODIFIED:20240821T132434Z
UID:10000599-1723993200-1724004000@downtownferndale.com
SUMMARY:Nine on Nine Concert Series
DESCRIPTION:Please join us in celebrating the 106th Memorial Day Parade and then visit Downtown Ferndale for shopping\, food & drinks!
URL:https://downtownferndale.com/event/nine-on-nine-concert-series-2/2024-08-18/
LOCATION:Schiffer Park\, Ferndale\, MI\, 48220\, United States
CATEGORIES:Events
ATTACH;FMTTYPE=image/png:https://downtownferndale.com/wp-content/uploads/2024/05/2024-THUMBNAIL-4-e1714691413916.png
GEO:42.460657522435;-83.139369111592
END:VEVENT
BEGIN:VEVENT
DTSTART;TZID=America/New_York:20240811T150000
DTEND;TZID=America/New_York:20240811T180000
DTSTAMP:20260419T133738
CREATED:20240502T231026Z
LAST-MODIFIED:20240821T132434Z
UID:10000598-1723388400-1723399200@downtownferndale.com
SUMMARY:Nine on Nine Concert Series
DESCRIPTION:Please join us in celebrating the 106th Memorial Day Parade and then visit Downtown Ferndale for shopping\, food & drinks!
URL:https://downtownferndale.com/event/nine-on-nine-concert-series-2/2024-08-11/
LOCATION:Schiffer Park\, Ferndale\, MI\, 48220\, United States
CATEGORIES:Events
ATTACH;FMTTYPE=image/png:https://downtownferndale.com/wp-content/uploads/2024/05/2024-THUMBNAIL-4-e1714691413916.png
GEO:42.460657522435;-83.139369111592
END:VEVENT
BEGIN:VEVENT
DTSTART;TZID=America/New_York:20240808T083000
DTEND;TZID=America/New_York:20240808T110000
DTSTAMP:20260419T133738
CREATED:20230714T161239Z
LAST-MODIFIED:20260106T182159Z
UID:10000529-1723105800-1723114800@downtownferndale.com
SUMMARY:DDA Board of Directors Meeting
DESCRIPTION:Please join us in celebrating the 106th Memorial Day Parade and then visit Downtown Ferndale for shopping\, food & drinks!
URL:https://downtownferndale.com/event/dda-board-of-directors-meeting-3/2024-08-08/
LOCATION:Ferndale City Hall\, 300 East Nine Mile Road\, Ferndale\, MI\, 48220\, United States
CATEGORIES:DDA Board of Directors,Meetings
ATTACH;FMTTYPE=image/jpeg:https://downtownferndale.com/wp-content/uploads/2020/03/DDA-logo.jpg
ORGANIZER;CN="Downtown Ferndale":MAILTO:info@downtownferndale.com
END:VEVENT
BEGIN:VEVENT
DTSTART;TZID=America/New_York:20240804T150000
DTEND;TZID=America/New_York:20240804T180000
DTSTAMP:20260419T133738
CREATED:20240502T231026Z
LAST-MODIFIED:20240821T132434Z
UID:10000597-1722783600-1722794400@downtownferndale.com
SUMMARY:Nine on Nine Concert Series
DESCRIPTION:Please join us in celebrating the 106th Memorial Day Parade and then visit Downtown Ferndale for shopping\, food & drinks!
URL:https://downtownferndale.com/event/nine-on-nine-concert-series-2/2024-08-04/
LOCATION:Schiffer Park\, Ferndale\, MI\, 48220\, United States
CATEGORIES:Events
ATTACH;FMTTYPE=image/png:https://downtownferndale.com/wp-content/uploads/2024/05/2024-THUMBNAIL-4-e1714691413916.png
GEO:42.460657522435;-83.139369111592
END:VEVENT
BEGIN:VEVENT
DTSTART;TZID=America/New_York:20240728T150000
DTEND;TZID=America/New_York:20240728T180000
DTSTAMP:20260419T133738
CREATED:20240502T231026Z
LAST-MODIFIED:20240821T132434Z
UID:10000596-1722178800-1722189600@downtownferndale.com
SUMMARY:Nine on Nine Concert Series
DESCRIPTION:Please join us in celebrating the 106th Memorial Day Parade and then visit Downtown Ferndale for shopping\, food & drinks!
URL:https://downtownferndale.com/event/nine-on-nine-concert-series-2/2024-07-28/
LOCATION:Schiffer Park\, Ferndale\, MI\, 48220\, United States
CATEGORIES:Events
ATTACH;FMTTYPE=image/png:https://downtownferndale.com/wp-content/uploads/2024/05/2024-THUMBNAIL-4-e1714691413916.png
GEO:42.460657522435;-83.139369111592
END:VEVENT
BEGIN:VEVENT
DTSTART;TZID=America/New_York:20240721T150000
DTEND;TZID=America/New_York:20240721T180000
DTSTAMP:20260419T133738
CREATED:20240502T231026Z
LAST-MODIFIED:20240821T132434Z
UID:10000595-1721574000-1721584800@downtownferndale.com
SUMMARY:Nine on Nine Concert Series
DESCRIPTION:Please join us in celebrating the 106th Memorial Day Parade and then visit Downtown Ferndale for shopping\, food & drinks!
URL:https://downtownferndale.com/event/nine-on-nine-concert-series-2/2024-07-21/
LOCATION:Schiffer Park\, Ferndale\, MI\, 48220\, United States
CATEGORIES:Events
ATTACH;FMTTYPE=image/png:https://downtownferndale.com/wp-content/uploads/2024/05/2024-THUMBNAIL-4-e1714691413916.png
GEO:42.460657522435;-83.139369111592
END:VEVENT
BEGIN:VEVENT
DTSTART;TZID=America/New_York:20240716T110000
DTEND;TZID=America/New_York:20240716T140000
DTSTAMP:20260419T133738
CREATED:20240708T185726Z
LAST-MODIFIED:20240708T185904Z
UID:10000608-1721127600-1721138400@downtownferndale.com
SUMMARY:Downtown Police & Business Meet-Up
DESCRIPTION:Please join us in celebrating the 106th Memorial Day Parade and then visit Downtown Ferndale for shopping\, food & drinks!
URL:https://downtownferndale.com/event/downtown-police-business-meet-up/
LOCATION:Rainbow Alley\, 195 West Nine Mile\, Ferndale\, MI\, 48220\, United States
CATEGORIES:DDA Board of Directors,Events,Meetings
ATTACH;FMTTYPE=image/png:https://downtownferndale.com/wp-content/uploads/2024/07/Police_logo-1-1-1-e1720465131838.png
END:VEVENT
BEGIN:VEVENT
DTSTART;TZID=America/New_York:20240714T150000
DTEND;TZID=America/New_York:20240714T180000
DTSTAMP:20260419T133738
CREATED:20240502T231026Z
LAST-MODIFIED:20240821T132434Z
UID:10000594-1720969200-1720980000@downtownferndale.com
SUMMARY:Nine on Nine Concert Series
DESCRIPTION:Please join us in celebrating the 106th Memorial Day Parade and then visit Downtown Ferndale for shopping\, food & drinks!
URL:https://downtownferndale.com/event/nine-on-nine-concert-series-2/2024-07-14/
LOCATION:Schiffer Park\, Ferndale\, MI\, 48220\, United States
CATEGORIES:Events
ATTACH;FMTTYPE=image/png:https://downtownferndale.com/wp-content/uploads/2024/05/2024-THUMBNAIL-4-e1714691413916.png
GEO:42.460657522435;-83.139369111592
END:VEVENT
BEGIN:VEVENT
DTSTART;TZID=America/New_York:20240711T083000
DTEND;TZID=America/New_York:20240711T110000
DTSTAMP:20260419T133738
CREATED:20230714T161239Z
LAST-MODIFIED:20260106T182159Z
UID:10000528-1720686600-1720695600@downtownferndale.com
SUMMARY:DDA Board of Directors Meeting
DESCRIPTION:Please join us in celebrating the 106th Memorial Day Parade and then visit Downtown Ferndale for shopping\, food & drinks!
URL:https://downtownferndale.com/event/dda-board-of-directors-meeting-3/2024-07-11/
LOCATION:Ferndale City Hall\, 300 East Nine Mile Road\, Ferndale\, MI\, 48220\, United States
CATEGORIES:DDA Board of Directors,Meetings
ATTACH;FMTTYPE=image/jpeg:https://downtownferndale.com/wp-content/uploads/2020/03/DDA-logo.jpg
ORGANIZER;CN="Downtown Ferndale":MAILTO:info@downtownferndale.com
END:VEVENT
BEGIN:VEVENT
DTSTART;TZID=America/New_York:20240620T170000
DTEND;TZID=America/New_York:20240620T190000
DTSTAMP:20260419T133738
CREATED:20240604T192654Z
LAST-MODIFIED:20240604T192654Z
UID:10000607-1718902800-1718910000@downtownferndale.com
SUMMARY:Ribbon Cutting Celebration: Inner Sage the Shop + Studio
DESCRIPTION:Please join us in celebrating the 106th Memorial Day Parade and then visit Downtown Ferndale for shopping\, food & drinks!
URL:https://downtownferndale.com/event/ribbon-cutting-celebration-inner-sage-the-shop-studio/
LOCATION:Inner Sage\, 171-175 West Nine Mile\, Ferndale\, Michigan\, 48220
CATEGORIES:Community Event,Events
ATTACH;FMTTYPE=image/png:https://downtownferndale.com/wp-content/uploads/2022/08/Ribbon-Cutting.png
END:VEVENT
BEGIN:VEVENT
DTSTART;TZID=America/New_York:20240613T083000
DTEND;TZID=America/New_York:20240613T110000
DTSTAMP:20260419T133738
CREATED:20230714T161239Z
LAST-MODIFIED:20260106T182159Z
UID:10000527-1718267400-1718276400@downtownferndale.com
SUMMARY:DDA Board of Directors Meeting
DESCRIPTION:Please join us in celebrating the 106th Memorial Day Parade and then visit Downtown Ferndale for shopping\, food & drinks!
URL:https://downtownferndale.com/event/dda-board-of-directors-meeting-3/2024-06-13/
LOCATION:Ferndale City Hall\, 300 East Nine Mile Road\, Ferndale\, MI\, 48220\, United States
CATEGORIES:DDA Board of Directors,Meetings
ATTACH;FMTTYPE=image/jpeg:https://downtownferndale.com/wp-content/uploads/2020/03/DDA-logo.jpg
ORGANIZER;CN="Downtown Ferndale":MAILTO:info@downtownferndale.com
END:VEVENT
BEGIN:VEVENT
DTSTART;TZID=America/New_York:20240601T123000
DTEND;TZID=America/New_York:20240601T220000
DTSTAMP:20260419T133738
CREATED:20240520T164818Z
LAST-MODIFIED:20240524T125924Z
UID:10000604-1717245000-1717279200@downtownferndale.com
SUMMARY:Ferndale Pride
DESCRIPTION:Please join us in celebrating the 106th Memorial Day Parade and then visit Downtown Ferndale for shopping\, food & drinks!
URL:https://downtownferndale.com/event/8124/
LOCATION:West Nine Mile\, Ferndale\, MI\, West Nine Mile & Woodward\, Ferndale\, MI\, 48220\, United States
CATEGORIES:Community Event,Events
ATTACH;FMTTYPE=image/jpeg:https://downtownferndale.com/wp-content/uploads/2024/05/pride-e1716555379523.jpg
END:VEVENT
BEGIN:VEVENT
DTSTART;TZID=America/New_York:20240601T100000
DTEND;TZID=America/New_York:20240601T103000
DTSTAMP:20260419T133738
CREATED:20240522T123503Z
LAST-MODIFIED:20240522T123606Z
UID:10000606-1717236000-1717237800@downtownferndale.com
SUMMARY:Rainbow Flag Raising Ceremony
DESCRIPTION:Please join us in celebrating the 106th Memorial Day Parade and then visit Downtown Ferndale for shopping\, food & drinks!
URL:https://downtownferndale.com/event/rainbow-flag-raising-ceremony/
LOCATION:Ferndale City Hall\, 300 East Nine Mile Road\, Ferndale\, MI\, 48220\, United States
CATEGORIES:Community Event,Events
ATTACH;FMTTYPE=image/png:https://downtownferndale.com/wp-content/uploads/2024/05/Thumbnail-e1716332837306.png
END:VEVENT
END:VCALENDAR