BEGIN:VCALENDAR
VERSION:2.0
PRODID:-//Downtown Ferndale - ECPv6.15.20//NONSGML v1.0//EN
CALSCALE:GREGORIAN
METHOD:PUBLISH
X-WR-CALNAME:Downtown Ferndale
X-ORIGINAL-URL:https://downtownferndale.com
X-WR-CALDESC:Events for Downtown Ferndale
REFRESH-INTERVAL;VALUE=DURATION:PT1H
X-Robots-Tag:noindex
X-PUBLISHED-TTL:PT1H
BEGIN:VTIMEZONE
TZID:America/New_York
BEGIN:DAYLIGHT
TZOFFSETFROM:-0500
TZOFFSETTO:-0400
TZNAME:EDT
DTSTART:20210314T070000
END:DAYLIGHT
BEGIN:STANDARD
TZOFFSETFROM:-0400
TZOFFSETTO:-0500
TZNAME:EST
DTSTART:20211107T060000
END:STANDARD
BEGIN:DAYLIGHT
TZOFFSETFROM:-0500
TZOFFSETTO:-0400
TZNAME:EDT
DTSTART:20220313T070000
END:DAYLIGHT
BEGIN:STANDARD
TZOFFSETFROM:-0400
TZOFFSETTO:-0500
TZNAME:EST
DTSTART:20221106T060000
END:STANDARD
BEGIN:DAYLIGHT
TZOFFSETFROM:-0500
TZOFFSETTO:-0400
TZNAME:EDT
DTSTART:20230312T070000
END:DAYLIGHT
BEGIN:STANDARD
TZOFFSETFROM:-0400
TZOFFSETTO:-0500
TZNAME:EST
DTSTART:20231105T060000
END:STANDARD
BEGIN:DAYLIGHT
TZOFFSETFROM:-0500
TZOFFSETTO:-0400
TZNAME:EDT
DTSTART:20240310T070000
END:DAYLIGHT
BEGIN:STANDARD
TZOFFSETFROM:-0400
TZOFFSETTO:-0500
TZNAME:EST
DTSTART:20241103T060000
END:STANDARD
END:VTIMEZONE
BEGIN:VEVENT
DTSTART;TZID=America/New_York:20230606T110000
DTEND;TZID=America/New_York:20230606T120000
DTSTAMP:20260422T095539
CREATED:20230714T184759Z
LAST-MODIFIED:20230714T184800Z
UID:10000105-1686049200-1686052800@downtownferndale.com
SUMMARY:Business Beat Monthly Meetup
DESCRIPTION:Regular monthly meeting of the DDA Board of Directors. Open to the public.
URL:https://downtownferndale.com/event/business-beat-monthly-meetup-2022-09-06-2/
LOCATION:Ferndale Area District Library\, 222 East Nine Mile Road\, Ferndale\, MI\, 48220\, United States
CATEGORIES:Business Beat Monthly Meetups,Meetings
ATTACH;FMTTYPE=image/png:https://downtownferndale.com/wp-content/uploads/2022/06/Ferndale-Business-Beat.png
ORGANIZER;CN="Downtown Ferndale":MAILTO:info@downtownferndale.com
END:VEVENT
BEGIN:VEVENT
DTSTART;TZID=America/New_York:20230529T100000
DTEND;TZID=America/New_York:20230529T120000
DTSTAMP:20260422T095539
CREATED:20230417T195454Z
LAST-MODIFIED:20230418T111824Z
UID:10000151-1685354400-1685361600@downtownferndale.com
SUMMARY:Memorial Day Parade | New Route | Beyond Downtown
DESCRIPTION:Regular monthly meeting of the DDA Board of Directors. Open to the public.
URL:https://downtownferndale.com/event/memorial-day-parade-new-parade-route-beyond-downtown/
LOCATION:MI
CATEGORIES:Community Event,Events
ATTACH;FMTTYPE=image/png:https://downtownferndale.com/wp-content/uploads/2023/04/2023-Memorial-Day-Parade-Route.png
END:VEVENT
BEGIN:VEVENT
DTSTART;TZID=America/New_York:20230520T110000
DTEND;TZID=America/New_York:20230520T180000
DTSTAMP:20260422T095539
CREATED:20230424T235117Z
LAST-MODIFIED:20230515T184214Z
UID:10000161-1684580400-1684605600@downtownferndale.com
SUMMARY:Spring Fever: Downtown Plant & Flower Market
DESCRIPTION:Regular monthly meeting of the DDA Board of Directors. Open to the public.
URL:https://downtownferndale.com/event/plants/
LOCATION:The dot\, 221 West Troy\, Ferndale\, MI\, 48220\, United States
CATEGORIES:Community Event,Events
ATTACH;FMTTYPE=image/png:https://downtownferndale.com/wp-content/uploads/2023/04/seedlings-indoor-plants-fresh-flowers-music-food-trucks-locally-owned-small-businesses.png
ORGANIZER;CN="Downtown Ferndale":MAILTO:info@downtownferndale.com
END:VEVENT
BEGIN:VEVENT
DTSTART;TZID=America/New_York:20230513T090000
DTEND;TZID=America/New_York:20230513T140000
DTSTAMP:20260422T095539
CREATED:20230417T193609Z
LAST-MODIFIED:20230417T193723Z
UID:10000150-1683968400-1683986400@downtownferndale.com
SUMMARY:Recycling Drop-Off Station & Plant Exchange | (City Hall Lot #11)
DESCRIPTION:Regular monthly meeting of the DDA Board of Directors. Open to the public.
URL:https://downtownferndale.com/event/recycling-drop-off-station-plant-exchange-city-hall-lot-11/
LOCATION:Ferndale City Hall\, 300 East Nine Mile Road\, Ferndale\, MI\, 48220\, United States
CATEGORIES:Community Event,Events
ATTACH;FMTTYPE=image/jpeg:https://downtownferndale.com/wp-content/uploads/2023/04/recycling-day.jpg
END:VEVENT
BEGIN:VEVENT
DTSTART;TZID=America/New_York:20230511T080000
DTEND;TZID=America/New_York:20230511T110000
DTSTAMP:20260422T095539
CREATED:20220622T213848Z
LAST-MODIFIED:20221201T150900Z
UID:10000087-1683792000-1683802800@downtownferndale.com
SUMMARY:DDA Board of Directors Meeting
DESCRIPTION:Regular monthly meeting of the DDA Board of Directors. Open to the public.
URL:https://downtownferndale.com/event/dda-board-of-directors-meeting/2023-05-11/
LOCATION:Ferndale City Hall\, 300 East Nine Mile Road\, Ferndale\, MI\, 48220\, United States
CATEGORIES:DDA Board of Directors,Meetings
ATTACH;FMTTYPE=image/jpeg:https://downtownferndale.com/wp-content/uploads/2020/03/DDA-logo.jpg
ORGANIZER;CN="Downtown Ferndale":MAILTO:info@downtownferndale.com
END:VEVENT
BEGIN:VEVENT
DTSTART;TZID=America/New_York:20230506T120000
DTEND;TZID=America/New_York:20230506T230000
DTSTAMP:20260422T095539
CREATED:20230417T190224Z
LAST-MODIFIED:20230417T190327Z
UID:10000149-1683374400-1683414000@downtownferndale.com
SUMMARY:Cinco de Mayo Festival | SATURDAY | Downtown Ferndale
DESCRIPTION:Regular monthly meeting of the DDA Board of Directors. Open to the public.
URL:https://downtownferndale.com/event/cinco-de-mayo-festival-saturday-downtown-ferndale/
LOCATION:Mezcal\, 201 East Nine Mile\, Ferndale\, MI\, 48220\, United States
CATEGORIES:Community Event,Events
ATTACH;FMTTYPE=image/jpeg:https://downtownferndale.com/wp-content/uploads/2023/04/mezcal-cinco-scaled-e1681757661737.jpg
ORGANIZER;CN="Mezcal":MAILTO:mezcalferndalesocial@gmail.com
END:VEVENT
BEGIN:VEVENT
DTSTART;TZID=America/New_York:20230502T180000
DTEND;TZID=America/New_York:20230502T193000
DTSTAMP:20260422T095539
CREATED:20230127T181006Z
LAST-MODIFIED:20230628T123835Z
UID:10000134-1683050400-1683055800@downtownferndale.com
SUMMARY:Downtown Volunteers Meeting: Vision Commitee
DESCRIPTION:Regular monthly meeting of the DDA Board of Directors. Open to the public.
URL:https://downtownferndale.com/event/downtown-volunteers-meeting-vision-commitee/2023-05-02/
LOCATION:Ferndale DDA Office\, City Hall\, 300 East Nine Mile Road\, Ferndale\, MI\, 48220\, United States
CATEGORIES:Volunteers Meeting: Vision Committee
ATTACH;FMTTYPE=image/jpeg:https://downtownferndale.com/wp-content/uploads/2020/03/FerndaleLogo_Black.jpg
ORGANIZER;CN="Downtown Ferndale":MAILTO:info@downtownferndale.com
END:VEVENT
BEGIN:VEVENT
DTSTART;TZID=America/New_York:20230502T110000
DTEND;TZID=America/New_York:20230502T120000
DTSTAMP:20260422T095539
CREATED:20220629T184639Z
LAST-MODIFIED:20230309T165024Z
UID:10000104-1683025200-1683028800@downtownferndale.com
SUMMARY:Business Beat Monthly Meetup
DESCRIPTION:Regular monthly meeting of the DDA Board of Directors. Open to the public.
URL:https://downtownferndale.com/event/business-beat-monthly-meetup-2022-09-06/2023-05-02/
LOCATION:Ferndale Area District Library\, 222 East Nine Mile Road\, Ferndale\, MI\, 48220\, United States
CATEGORIES:Business Beat Monthly Meetups,Meetings
ATTACH;FMTTYPE=image/png:https://downtownferndale.com/wp-content/uploads/2022/06/Ferndale-Business-Beat.png
ORGANIZER;CN="Downtown Ferndale":MAILTO:info@downtownferndale.com
END:VEVENT
BEGIN:VEVENT
DTSTART;TZID=America/New_York:20230425T173000
DTEND;TZID=America/New_York:20230425T183000
DTSTAMP:20260422T095539
CREATED:20230414T175853Z
LAST-MODIFIED:20230414T180005Z
UID:10000147-1682443800-1682447400@downtownferndale.com
SUMMARY:Ribbon Cutting at Bakehouse46
DESCRIPTION:Regular monthly meeting of the DDA Board of Directors. Open to the public.
URL:https://downtownferndale.com/event/ribbon-cutting-at-bakehouse46/
LOCATION:Bakehouse46\, 301 West Nine Mile\, Ferndale\, MI\, 48220\, United States
CATEGORIES:Community Event,Events
ATTACH;FMTTYPE=image/png:https://downtownferndale.com/wp-content/uploads/2022/12/ribbon-cutting-graphic.png
END:VEVENT
BEGIN:VEVENT
DTSTART;TZID=America/New_York:20230413T080000
DTEND;TZID=America/New_York:20230413T110000
DTSTAMP:20260422T095539
CREATED:20220622T213848Z
LAST-MODIFIED:20221201T150900Z
UID:10000086-1681372800-1681383600@downtownferndale.com
SUMMARY:DDA Board of Directors Meeting
DESCRIPTION:Regular monthly meeting of the DDA Board of Directors. Open to the public.
URL:https://downtownferndale.com/event/dda-board-of-directors-meeting/2023-04-13/
LOCATION:Ferndale City Hall\, 300 East Nine Mile Road\, Ferndale\, MI\, 48220\, United States
CATEGORIES:DDA Board of Directors,Meetings
ATTACH;FMTTYPE=image/jpeg:https://downtownferndale.com/wp-content/uploads/2020/03/DDA-logo.jpg
ORGANIZER;CN="Downtown Ferndale":MAILTO:info@downtownferndale.com
END:VEVENT
BEGIN:VEVENT
DTSTART;TZID=America/New_York:20230404T180000
DTEND;TZID=America/New_York:20230404T193000
DTSTAMP:20260422T095539
CREATED:20230127T181006Z
LAST-MODIFIED:20230628T123835Z
UID:10000133-1680631200-1680636600@downtownferndale.com
SUMMARY:Downtown Volunteers Meeting: Vision Commitee
DESCRIPTION:Regular monthly meeting of the DDA Board of Directors. Open to the public.
URL:https://downtownferndale.com/event/downtown-volunteers-meeting-vision-commitee/2023-04-04/
LOCATION:Ferndale DDA Office\, City Hall\, 300 East Nine Mile Road\, Ferndale\, MI\, 48220\, United States
CATEGORIES:Volunteers Meeting: Vision Committee
ATTACH;FMTTYPE=image/jpeg:https://downtownferndale.com/wp-content/uploads/2020/03/FerndaleLogo_Black.jpg
ORGANIZER;CN="Downtown Ferndale":MAILTO:info@downtownferndale.com
END:VEVENT
BEGIN:VEVENT
DTSTART;TZID=America/New_York:20230404T110000
DTEND;TZID=America/New_York:20230404T120000
DTSTAMP:20260422T095539
CREATED:20220629T184639Z
LAST-MODIFIED:20230309T165024Z
UID:10000103-1680606000-1680609600@downtownferndale.com
SUMMARY:Business Beat Monthly Meetup
DESCRIPTION:Regular monthly meeting of the DDA Board of Directors. Open to the public.
URL:https://downtownferndale.com/event/business-beat-monthly-meetup-2022-09-06/2023-04-04/
LOCATION:Ferndale Area District Library\, 222 East Nine Mile Road\, Ferndale\, MI\, 48220\, United States
CATEGORIES:Business Beat Monthly Meetups,Meetings
ATTACH;FMTTYPE=image/png:https://downtownferndale.com/wp-content/uploads/2022/06/Ferndale-Business-Beat.png
ORGANIZER;CN="Downtown Ferndale":MAILTO:info@downtownferndale.com
END:VEVENT
BEGIN:VEVENT
DTSTART;TZID=America/New_York:20230403T160000
DTEND;TZID=America/New_York:20230403T190000
DTSTAMP:20260422T095539
CREATED:20230301T185440Z
LAST-MODIFIED:20230313T180604Z
UID:10000143-1680537600-1680548400@downtownferndale.com
SUMMARY:Ribbon Cutting at IEP Urgent Care
DESCRIPTION:Regular monthly meeting of the DDA Board of Directors. Open to the public.
URL:https://downtownferndale.com/event/ribbon-cutting-at-iep-urgent-care/
LOCATION:IEP\, 1111 West Nine Mile\, Ferndale\, MI\, 48220\, United States
CATEGORIES:Community Event,Events
ATTACH;FMTTYPE=image/png:https://downtownferndale.com/wp-content/uploads/2022/12/ribbon-cutting-graphic.png
END:VEVENT
BEGIN:VEVENT
DTSTART;TZID=America/New_York:20230322T170000
DTEND;TZID=America/New_York:20230322T180000
DTSTAMP:20260422T095539
CREATED:20230313T134219Z
LAST-MODIFIED:20230313T180546Z
UID:10000146-1679504400-1679508000@downtownferndale.com
SUMMARY:Ribbon Cutting at Copper CornerStore
DESCRIPTION:Regular monthly meeting of the DDA Board of Directors. Open to the public.
URL:https://downtownferndale.com/event/ribbon-cutting-copper-cornerstore/
LOCATION:Copper Cornerstore\, 817 Livernois\, Ferndale\, MI\, 48220\, United States
CATEGORIES:Community Event,Events
ATTACH;FMTTYPE=image/png:https://downtownferndale.com/wp-content/uploads/2022/12/ribbon-cutting-graphic.png
END:VEVENT
BEGIN:VEVENT
DTSTART;TZID=America/New_York:20230316T080000
DTEND;TZID=America/New_York:20230316T110000
DTSTAMP:20260422T095539
CREATED:20230307T150207Z
LAST-MODIFIED:20230313T181013Z
UID:10000145-1678953600-1678964400@downtownferndale.com
SUMMARY:*RESCHEDULED* DDA Board of Directors Meeting
DESCRIPTION:Regular monthly meeting of the DDA Board of Directors. Open to the public.
URL:https://downtownferndale.com/event/new-march-16-dda-board-of-directors-meeting/
LOCATION:MI
CATEGORIES:DDA Board of Directors,Meetings
END:VEVENT
BEGIN:VEVENT
DTSTART;TZID=America/New_York:20230309T080000
DTEND;TZID=America/New_York:20230309T110000
DTSTAMP:20260422T095539
CREATED:20220622T213848Z
LAST-MODIFIED:20221201T150900Z
UID:10000085-1678348800-1678359600@downtownferndale.com
SUMMARY:DDA Board of Directors Meeting
DESCRIPTION:Regular monthly meeting of the DDA Board of Directors. Open to the public.
URL:https://downtownferndale.com/event/dda-board-of-directors-meeting/2023-03-09/
LOCATION:Ferndale City Hall\, 300 East Nine Mile Road\, Ferndale\, MI\, 48220\, United States
CATEGORIES:DDA Board of Directors,Meetings
ATTACH;FMTTYPE=image/jpeg:https://downtownferndale.com/wp-content/uploads/2020/03/DDA-logo.jpg
ORGANIZER;CN="Downtown Ferndale":MAILTO:info@downtownferndale.com
END:VEVENT
BEGIN:VEVENT
DTSTART;TZID=America/New_York:20230307T180000
DTEND;TZID=America/New_York:20230307T193000
DTSTAMP:20260422T095539
CREATED:20230127T181006Z
LAST-MODIFIED:20230628T123835Z
UID:10000132-1678212000-1678217400@downtownferndale.com
SUMMARY:Downtown Volunteers Meeting: Vision Commitee
DESCRIPTION:Regular monthly meeting of the DDA Board of Directors. Open to the public.
URL:https://downtownferndale.com/event/downtown-volunteers-meeting-vision-commitee/2023-03-07/
LOCATION:Ferndale DDA Office\, City Hall\, 300 East Nine Mile Road\, Ferndale\, MI\, 48220\, United States
CATEGORIES:Volunteers Meeting: Vision Committee
ATTACH;FMTTYPE=image/jpeg:https://downtownferndale.com/wp-content/uploads/2020/03/FerndaleLogo_Black.jpg
ORGANIZER;CN="Downtown Ferndale":MAILTO:info@downtownferndale.com
END:VEVENT
BEGIN:VEVENT
DTSTART;TZID=America/New_York:20230307T110000
DTEND;TZID=America/New_York:20230307T120000
DTSTAMP:20260422T095539
CREATED:20220629T184639Z
LAST-MODIFIED:20230309T165024Z
UID:10000102-1678186800-1678190400@downtownferndale.com
SUMMARY:Business Beat Monthly Meetup
DESCRIPTION:Regular monthly meeting of the DDA Board of Directors. Open to the public.
URL:https://downtownferndale.com/event/business-beat-monthly-meetup-2022-09-06/2023-03-07/
LOCATION:Ferndale Area District Library\, 222 East Nine Mile Road\, Ferndale\, MI\, 48220\, United States
CATEGORIES:Business Beat Monthly Meetups,Meetings
ATTACH;FMTTYPE=image/png:https://downtownferndale.com/wp-content/uploads/2022/06/Ferndale-Business-Beat.png
ORGANIZER;CN="Downtown Ferndale":MAILTO:info@downtownferndale.com
END:VEVENT
BEGIN:VEVENT
DTSTART;VALUE=DATE:20230307
DTEND;VALUE=DATE:20230308
DTSTAMP:20260422T095539
CREATED:20230302T181500Z
LAST-MODIFIED:20230306T201332Z
UID:10000144-1678147200-1678233599@downtownferndale.com
SUMMARY:MARCH 7th meeting has been CANCELLED
DESCRIPTION:Regular monthly meeting of the DDA Board of Directors. Open to the public.
URL:https://downtownferndale.com/event/business-beat-monthly-meetup-march-7-is-cancelled/
LOCATION:MI
CATEGORIES:Business Beat Monthly Meetups,Meetings
END:VEVENT
BEGIN:VEVENT
DTSTART;TZID=America/New_York:20230216T080000
DTEND;TZID=America/New_York:20230216T110000
DTSTAMP:20260422T095539
CREATED:20230207T202253Z
LAST-MODIFIED:20230207T202556Z
UID:10000084-1676534400-1676545200@downtownferndale.com
SUMMARY:DDA Board of Directors Meeting
DESCRIPTION:Regular monthly meeting of the DDA Board of Directors. Open to the public.
URL:https://downtownferndale.com/event/dda-board-of-directors-meeting-2/
LOCATION:Ferndale City Hall\, 300 East Nine Mile Road\, Ferndale\, MI\, 48220\, United States
CATEGORIES:DDA Board of Directors,Meetings
ATTACH;FMTTYPE=image/jpeg:https://downtownferndale.com/wp-content/uploads/2020/03/DDA-logo.jpg
ORGANIZER;CN="Downtown Ferndale":MAILTO:info@downtownferndale.com
END:VEVENT
BEGIN:VEVENT
DTSTART;TZID=America/New_York:20230207T180000
DTEND;TZID=America/New_York:20230207T193000
DTSTAMP:20260422T095539
CREATED:20230127T181006Z
LAST-MODIFIED:20230628T123835Z
UID:10000131-1675792800-1675798200@downtownferndale.com
SUMMARY:Downtown Volunteers Meeting: Vision Commitee
DESCRIPTION:Regular monthly meeting of the DDA Board of Directors. Open to the public.
URL:https://downtownferndale.com/event/downtown-volunteers-meeting-vision-commitee/2023-02-07/
LOCATION:Ferndale DDA Office\, City Hall\, 300 East Nine Mile Road\, Ferndale\, MI\, 48220\, United States
CATEGORIES:Volunteers Meeting: Vision Committee
ATTACH;FMTTYPE=image/jpeg:https://downtownferndale.com/wp-content/uploads/2020/03/FerndaleLogo_Black.jpg
ORGANIZER;CN="Downtown Ferndale":MAILTO:info@downtownferndale.com
END:VEVENT
BEGIN:VEVENT
DTSTART;TZID=America/New_York:20230207T110000
DTEND;TZID=America/New_York:20230207T120000
DTSTAMP:20260422T095540
CREATED:20220629T184639Z
LAST-MODIFIED:20230127T170741Z
UID:10000108-1675767600-1675771200@downtownferndale.com
SUMMARY:Business Beat Monthly Meetup
DESCRIPTION:Regular monthly meeting of the DDA Board of Directors. Open to the public.
URL:https://downtownferndale.com/event/business-beat-monthly-meetup-2022-09-06-2023-02-07/
LOCATION:Ferndale Area District Library\, 222 East Nine Mile Road\, Ferndale\, MI\, 48220\, United States
CATEGORIES:Business Beat Monthly Meetups,Meetings
ATTACH;FMTTYPE=image/png:https://downtownferndale.com/wp-content/uploads/2022/06/Ferndale-Business-Beat.png
ORGANIZER;CN="Downtown Ferndale":MAILTO:info@downtownferndale.com
END:VEVENT
BEGIN:VEVENT
DTSTART;TZID=America/New_York:20230117T170000
DTEND;TZID=America/New_York:20230117T180000
DTSTAMP:20260422T095540
CREATED:20221221T142141Z
LAST-MODIFIED:20221221T152301Z
UID:10000130-1673974800-1673978400@downtownferndale.com
SUMMARY:Ribbon Cutting - Jade Social
DESCRIPTION:Regular monthly meeting of the DDA Board of Directors. Open to the public.
URL:https://downtownferndale.com/event/ribbon-cutting-jade-social/
LOCATION:Jade Social\, 262 West Nine Mile\, Ferndale\, MI\, 48220\, United States
CATEGORIES:Events
ATTACH;FMTTYPE=image/png:https://downtownferndale.com/wp-content/uploads/2022/12/ribbon-cutting-graphic.png
END:VEVENT
BEGIN:VEVENT
DTSTART;TZID=America/New_York:20230112T080000
DTEND;TZID=America/New_York:20230112T110000
DTSTAMP:20260422T095540
CREATED:20220622T213848Z
LAST-MODIFIED:20221201T150900Z
UID:10000083-1673510400-1673521200@downtownferndale.com
SUMMARY:DDA Board of Directors Meeting
DESCRIPTION:Regular monthly meeting of the DDA Board of Directors. Open to the public.
URL:https://downtownferndale.com/event/dda-board-of-directors-meeting/2023-01-12/
LOCATION:Ferndale City Hall\, 300 East Nine Mile Road\, Ferndale\, MI\, 48220\, United States
CATEGORIES:DDA Board of Directors,Meetings
ATTACH;FMTTYPE=image/jpeg:https://downtownferndale.com/wp-content/uploads/2020/03/DDA-logo.jpg
ORGANIZER;CN="Downtown Ferndale":MAILTO:info@downtownferndale.com
END:VEVENT
BEGIN:VEVENT
DTSTART;TZID=America/New_York:20230109T170000
DTEND;TZID=America/New_York:20230109T180000
DTSTAMP:20260422T095540
CREATED:20221221T133442Z
LAST-MODIFIED:20221221T171646Z
UID:10000129-1673283600-1673287200@downtownferndale.com
SUMMARY:Ribbon Cutting - My Salon Suite
DESCRIPTION:Regular monthly meeting of the DDA Board of Directors. Open to the public.
URL:https://downtownferndale.com/event/ribbon-cutting-my-salon-suites/
LOCATION:My Salon Suites\, 221 West Troy\, Ferndale\, MI\, 48220\, United States
CATEGORIES:Events
ATTACH;FMTTYPE=image/png:https://downtownferndale.com/wp-content/uploads/2022/12/ribbon-cutting-graphic.png
END:VEVENT
BEGIN:VEVENT
DTSTART;TZID=America/New_York:20230103T110000
DTEND;TZID=America/New_York:20230103T120000
DTSTAMP:20260422T095540
CREATED:20220629T184639Z
LAST-MODIFIED:20230127T170417Z
UID:10000107-1672743600-1672747200@downtownferndale.com
SUMMARY:(Postponed) Business Beat Monthly Meetup
DESCRIPTION:Regular monthly meeting of the DDA Board of Directors. Open to the public.
URL:https://downtownferndale.com/event/business-beat-monthly-meetup-2022-09-06-2023-01-03/
LOCATION:Ferndale Area District Library\, 222 East Nine Mile Road\, Ferndale\, MI\, 48220\, United States
CATEGORIES:Business Beat Monthly Meetups,Meetings
ATTACH;FMTTYPE=image/png:https://downtownferndale.com/wp-content/uploads/2022/06/Ferndale-Business-Beat.png
ORGANIZER;CN="Downtown Ferndale":MAILTO:info@downtownferndale.com
END:VEVENT
BEGIN:VEVENT
DTSTART;TZID=America/New_York:20221229T100000
DTEND;TZID=America/New_York:20221229T110000
DTSTAMP:20260422T095540
CREATED:20221208T034313Z
LAST-MODIFIED:20221213T165212Z
UID:10000128-1672308000-1672311600@downtownferndale.com
SUMMARY:DDA Informational Meeting
DESCRIPTION:Regular monthly meeting of the DDA Board of Directors. Open to the public.
URL:https://downtownferndale.com/event/dda-informational-meeting/2022-12-29/
LOCATION:Ferndale City Hall\, 300 East Nine Mile Road\, Ferndale\, MI\, 48220\, United States
CATEGORIES:Meetings
ATTACH;FMTTYPE=image/jpeg:https://downtownferndale.com/wp-content/uploads/2020/03/FerndaleLogo_Black_edited-1.jpg
ORGANIZER;CN="Downtown Ferndale":MAILTO:info@downtownferndale.com
END:VEVENT
BEGIN:VEVENT
DTSTART;TZID=America/New_York:20221228T100000
DTEND;TZID=America/New_York:20221228T110000
DTSTAMP:20260422T095540
CREATED:20221208T034313Z
LAST-MODIFIED:20221213T165212Z
UID:10000127-1672221600-1672225200@downtownferndale.com
SUMMARY:DDA Informational Meeting
DESCRIPTION:Regular monthly meeting of the DDA Board of Directors. Open to the public.
URL:https://downtownferndale.com/event/dda-informational-meeting/2022-12-28/
LOCATION:Ferndale City Hall\, 300 East Nine Mile Road\, Ferndale\, MI\, 48220\, United States
CATEGORIES:Meetings
ATTACH;FMTTYPE=image/jpeg:https://downtownferndale.com/wp-content/uploads/2020/03/FerndaleLogo_Black_edited-1.jpg
ORGANIZER;CN="Downtown Ferndale":MAILTO:info@downtownferndale.com
END:VEVENT
BEGIN:VEVENT
DTSTART;TZID=America/New_York:20221208T080000
DTEND;TZID=America/New_York:20221208T110000
DTSTAMP:20260422T095540
CREATED:20220622T213848Z
LAST-MODIFIED:20221206T154638Z
UID:10000089-1670486400-1670497200@downtownferndale.com
SUMMARY:DDA Board of Directors Meeting
DESCRIPTION:Regular monthly meeting of the DDA Board of Directors. Open to the public.
URL:https://downtownferndale.com/event/dda-board-of-directors-meeting-2022-12-08/
LOCATION:Ferndale City Hall\, 300 East Nine Mile Road\, Ferndale\, MI\, 48220\, United States
CATEGORIES:DDA Board of Directors,Meetings
ATTACH;FMTTYPE=image/jpeg:https://downtownferndale.com/wp-content/uploads/2020/03/DDA-logo.jpg
ORGANIZER;CN="Downtown Ferndale":MAILTO:info@downtownferndale.com
END:VEVENT
BEGIN:VEVENT
DTSTART;TZID=America/New_York:20221206T110000
DTEND;TZID=America/New_York:20221206T120000
DTSTAMP:20260422T095540
CREATED:20220629T184639Z
LAST-MODIFIED:20221201T150825Z
UID:10000106-1670324400-1670328000@downtownferndale.com
SUMMARY:Business Beat Monthly Meetup
DESCRIPTION:Regular monthly meeting of the DDA Board of Directors. Open to the public.
URL:https://downtownferndale.com/event/business-beat-monthly-meetup-2022-09-06-2022-12-06/
LOCATION:Ferndale Area District Library\, 222 East Nine Mile Road\, Ferndale\, MI\, 48220\, United States
CATEGORIES:Business Beat Monthly Meetups,Meetings
ATTACH;FMTTYPE=image/png:https://downtownferndale.com/wp-content/uploads/2022/06/Ferndale-Business-Beat.png
ORGANIZER;CN="Downtown Ferndale":MAILTO:info@downtownferndale.com
END:VEVENT
END:VCALENDAR