BEGIN:VCALENDAR
VERSION:2.0
PRODID:-//Downtown Ferndale - ECPv6.15.20//NONSGML v1.0//EN
CALSCALE:GREGORIAN
METHOD:PUBLISH
X-WR-CALNAME:Downtown Ferndale
X-ORIGINAL-URL:https://downtownferndale.com
X-WR-CALDESC:Events for Downtown Ferndale
REFRESH-INTERVAL;VALUE=DURATION:PT1H
X-Robots-Tag:noindex
X-PUBLISHED-TTL:PT1H
BEGIN:VTIMEZONE
TZID:America/New_York
BEGIN:DAYLIGHT
TZOFFSETFROM:-0500
TZOFFSETTO:-0400
TZNAME:EDT
DTSTART:20240310T070000
END:DAYLIGHT
BEGIN:STANDARD
TZOFFSETFROM:-0400
TZOFFSETTO:-0500
TZNAME:EST
DTSTART:20241103T060000
END:STANDARD
BEGIN:DAYLIGHT
TZOFFSETFROM:-0500
TZOFFSETTO:-0400
TZNAME:EDT
DTSTART:20250309T070000
END:DAYLIGHT
BEGIN:STANDARD
TZOFFSETFROM:-0400
TZOFFSETTO:-0500
TZNAME:EST
DTSTART:20251102T060000
END:STANDARD
BEGIN:DAYLIGHT
TZOFFSETFROM:-0500
TZOFFSETTO:-0400
TZNAME:EDT
DTSTART:20260308T070000
END:DAYLIGHT
BEGIN:STANDARD
TZOFFSETFROM:-0400
TZOFFSETTO:-0500
TZNAME:EST
DTSTART:20261101T060000
END:STANDARD
BEGIN:DAYLIGHT
TZOFFSETFROM:-0500
TZOFFSETTO:-0400
TZNAME:EDT
DTSTART:20270314T070000
END:DAYLIGHT
BEGIN:STANDARD
TZOFFSETFROM:-0400
TZOFFSETTO:-0500
TZNAME:EST
DTSTART:20271107T060000
END:STANDARD
END:VTIMEZONE
BEGIN:VEVENT
DTSTART;TZID=America/New_York:20260409T083000
DTEND;TZID=America/New_York:20260409T110000
DTSTAMP:20260419T085531
CREATED:20230714T161239Z
LAST-MODIFIED:20260106T182159Z
UID:10000549-1775723400-1775732400@downtownferndale.com
SUMMARY:DDA Board of Directors Meeting
DESCRIPTION:Share your thoughts on the preliminary designs for Downtown Wayfinding for an upcoming project in 2026
URL:https://downtownferndale.com/event/dda-board-of-directors-meeting-3/2026-04-09/
LOCATION:Ferndale City Hall\, 300 East Nine Mile Road\, Ferndale\, MI\, 48220\, United States
CATEGORIES:DDA Board of Directors,Meetings
ATTACH;FMTTYPE=image/jpeg:https://downtownferndale.com/wp-content/uploads/2020/03/DDA-logo.jpg
ORGANIZER;CN="Downtown Ferndale":MAILTO:info@downtownferndale.com
END:VEVENT
BEGIN:VEVENT
DTSTART;TZID=America/New_York:20260312T083000
DTEND;TZID=America/New_York:20260312T110000
DTSTAMP:20260419T085531
CREATED:20230714T161239Z
LAST-MODIFIED:20260106T182159Z
UID:10000548-1773304200-1773313200@downtownferndale.com
SUMMARY:DDA Board of Directors Meeting
DESCRIPTION:Share your thoughts on the preliminary designs for Downtown Wayfinding for an upcoming project in 2026
URL:https://downtownferndale.com/event/dda-board-of-directors-meeting-3/2026-03-12/
LOCATION:Ferndale City Hall\, 300 East Nine Mile Road\, Ferndale\, MI\, 48220\, United States
CATEGORIES:DDA Board of Directors,Meetings
ATTACH;FMTTYPE=image/jpeg:https://downtownferndale.com/wp-content/uploads/2020/03/DDA-logo.jpg
ORGANIZER;CN="Downtown Ferndale":MAILTO:info@downtownferndale.com
END:VEVENT
BEGIN:VEVENT
DTSTART;TZID=America/New_York:20260311T180000
DTEND;TZID=America/New_York:20260311T193000
DTSTAMP:20260419T085531
CREATED:20260224T220023Z
LAST-MODIFIED:20260319T202641Z
UID:10000679-1773252000-1773257400@downtownferndale.com
SUMMARY:Wayfinding Design Public Input Session
DESCRIPTION:Share your thoughts on the preliminary designs for Downtown Wayfinding for an upcoming project in 2026
URL:https://downtownferndale.com/event/wayfinding-design-public-input-session/
LOCATION:Affirmations\, 290 West Nine Mile\, Ferndale\, MI\, 48220\, United States
CATEGORIES:Events
END:VEVENT
BEGIN:VEVENT
DTSTART;TZID=America/New_York:20260212T083000
DTEND;TZID=America/New_York:20260212T110000
DTSTAMP:20260419T085531
CREATED:20230714T161239Z
LAST-MODIFIED:20260106T182159Z
UID:10000547-1770885000-1770894000@downtownferndale.com
SUMMARY:DDA Board of Directors Meeting
DESCRIPTION:Share your thoughts on the preliminary designs for Downtown Wayfinding for an upcoming project in 2026
URL:https://downtownferndale.com/event/dda-board-of-directors-meeting-3/2026-02-12/
LOCATION:Ferndale City Hall\, 300 East Nine Mile Road\, Ferndale\, MI\, 48220\, United States
CATEGORIES:DDA Board of Directors,Meetings
ATTACH;FMTTYPE=image/jpeg:https://downtownferndale.com/wp-content/uploads/2020/03/DDA-logo.jpg
ORGANIZER;CN="Downtown Ferndale":MAILTO:info@downtownferndale.com
END:VEVENT
BEGIN:VEVENT
DTSTART;TZID=America/New_York:20260108T083000
DTEND;TZID=America/New_York:20260108T110000
DTSTAMP:20260419T085531
CREATED:20230714T161239Z
LAST-MODIFIED:20260106T182159Z
UID:10000546-1767861000-1767870000@downtownferndale.com
SUMMARY:DDA Board of Directors Meeting
DESCRIPTION:Share your thoughts on the preliminary designs for Downtown Wayfinding for an upcoming project in 2026
URL:https://downtownferndale.com/event/dda-board-of-directors-meeting-3/2026-01-08/
LOCATION:Ferndale City Hall\, 300 East Nine Mile Road\, Ferndale\, MI\, 48220\, United States
CATEGORIES:DDA Board of Directors,Meetings
ATTACH;FMTTYPE=image/jpeg:https://downtownferndale.com/wp-content/uploads/2020/03/DDA-logo.jpg
ORGANIZER;CN="Downtown Ferndale":MAILTO:info@downtownferndale.com
END:VEVENT
BEGIN:VEVENT
DTSTART;TZID=America/New_York:20251216T110000
DTEND;TZID=America/New_York:20251216T120000
DTSTAMP:20260419T085531
CREATED:20251209T150139Z
LAST-MODIFIED:20251209T150139Z
UID:10000674-1765882800-1765886400@downtownferndale.com
SUMMARY:Ferndale DDA Public Information Session 2025
DESCRIPTION:Share your thoughts on the preliminary designs for Downtown Wayfinding for an upcoming project in 2026
URL:https://downtownferndale.com/event/ferndale-dda-public-information-session-2025/
LOCATION:Sidecar Ferndale\, 241 West Nine Mile\, Ferndale\, MI\, 48220\, United States
CATEGORIES:Events
ATTACH;FMTTYPE=image/jpeg:https://downtownferndale.com/wp-content/uploads/2020/03/FerndaleLogo_Black.jpg
END:VEVENT
BEGIN:VEVENT
DTSTART;TZID=America/New_York:20251211T083000
DTEND;TZID=America/New_York:20251211T110000
DTSTAMP:20260419T085531
CREATED:20230714T161239Z
LAST-MODIFIED:20260106T182159Z
UID:10000545-1765441800-1765450800@downtownferndale.com
SUMMARY:DDA Board of Directors Meeting
DESCRIPTION:Share your thoughts on the preliminary designs for Downtown Wayfinding for an upcoming project in 2026
URL:https://downtownferndale.com/event/dda-board-of-directors-meeting-3/2025-12-11/
LOCATION:Ferndale City Hall\, 300 East Nine Mile Road\, Ferndale\, MI\, 48220\, United States
CATEGORIES:DDA Board of Directors,Meetings
ATTACH;FMTTYPE=image/jpeg:https://downtownferndale.com/wp-content/uploads/2020/03/DDA-logo.jpg
ORGANIZER;CN="Downtown Ferndale":MAILTO:info@downtownferndale.com
END:VEVENT
BEGIN:VEVENT
DTSTART;TZID=America/New_York:20251210T180000
DTEND;TZID=America/New_York:20251210T190000
DTSTAMP:20260419T085531
CREATED:20251202T212021Z
LAST-MODIFIED:20251203T214223Z
UID:10000673-1765389600-1765393200@downtownferndale.com
SUMMARY:Wayfinding & Sidewalks Public Information Session
DESCRIPTION:Share your thoughts on the preliminary designs for Downtown Wayfinding for an upcoming project in 2026
URL:https://downtownferndale.com/event/public-information-session-on-wayfinding/
LOCATION:Ferndale City Hall\, 300 East Nine Mile Road\, Ferndale\, MI\, 48220\, United States
CATEGORIES:Events
ATTACH;FMTTYPE=image/png:https://downtownferndale.com/wp-content/uploads/2025/12/Website-Event-Images-12-e1764796252781.png
END:VEVENT
BEGIN:VEVENT
DTSTART;TZID=America/New_York:20251206T140000
DTEND;TZID=America/New_York:20251206T160000
DTSTAMP:20260419T085531
CREATED:20251118T181129Z
LAST-MODIFIED:20251118T181504Z
UID:10000672-1765029600-1765036800@downtownferndale.com
SUMMARY:Santa at Schiffer
DESCRIPTION:Share your thoughts on the preliminary designs for Downtown Wayfinding for an upcoming project in 2026
URL:https://downtownferndale.com/event/santa-at-schiffer-2/
LOCATION:Schiffer Park\, Ferndale\, MI\, 48220\, United States
CATEGORIES:Events
ATTACH;FMTTYPE=image/png:https://downtownferndale.com/wp-content/uploads/2025/11/Website-Event-Images-7-e1763489669181.png
GEO:42.460657522435;-83.139369111592
END:VEVENT
BEGIN:VEVENT
DTSTART;VALUE=DATE:20251129
DTEND;VALUE=DATE:20251130
DTSTAMP:20260419T085531
CREATED:20250910T185647Z
LAST-MODIFIED:20250910T185852Z
UID:10000666-1764374400-1764460799@downtownferndale.com
SUMMARY:Shop Small Saturday
DESCRIPTION:Share your thoughts on the preliminary designs for Downtown Wayfinding for an upcoming project in 2026
URL:https://downtownferndale.com/event/shop-small-saturday-2/
LOCATION:Downtown Ferndale\, Woodward Ave. & Nine Mile\, Ferndale\, MI\, 48220\, United States
CATEGORIES:Events
ATTACH;FMTTYPE=image/png:https://downtownferndale.com/wp-content/uploads/2025/09/SHOP-SMALL-WITH-US-ON-SMALL-BUSINESS-SATURDAY-3-scaled-e1757530569751.png
END:VEVENT
BEGIN:VEVENT
DTSTART;TZID=America/New_York:20251116T110000
DTEND;TZID=America/New_York:20251116T170000
DTSTAMP:20260419T085531
CREATED:20251029T165655Z
LAST-MODIFIED:20251029T165735Z
UID:10000671-1763290800-1763312400@downtownferndale.com
SUMMARY:Jingle & Mingle Underground Market
DESCRIPTION:Share your thoughts on the preliminary designs for Downtown Wayfinding for an upcoming project in 2026
URL:https://downtownferndale.com/event/jingle-mingle-underground-market-4/
LOCATION:The dot\, 221 West Troy\, Ferndale\, MI\, 48220\, United States
CATEGORIES:Events
ATTACH;FMTTYPE=image/png:https://downtownferndale.com/wp-content/uploads/2025/10/thumbnail_3.5x3.5-Coaster_Ferndale-JM_2025-e1761756378718.png
END:VEVENT
BEGIN:VEVENT
DTSTART;TZID=America/New_York:20251115T100000
DTEND;TZID=America/New_York:20251115T190000
DTSTAMP:20260419T085531
CREATED:20251029T164437Z
LAST-MODIFIED:20251029T164800Z
UID:10000670-1763200800-1763233200@downtownferndale.com
SUMMARY:Jingle & Mingle Underground Market
DESCRIPTION:Share your thoughts on the preliminary designs for Downtown Wayfinding for an upcoming project in 2026
URL:https://downtownferndale.com/event/jingle-mingle-underground-market-3/2025-11-15/
LOCATION:The dot\, 221 West Troy\, Ferndale\, MI\, 48220\, United States
CATEGORIES:Events
ATTACH;FMTTYPE=image/png:https://downtownferndale.com/wp-content/uploads/2025/10/thumbnail_3.5x3.5-Coaster_Ferndale-JM_2025-e1761756378718.png
END:VEVENT
BEGIN:VEVENT
DTSTART;TZID=America/New_York:20251113T083000
DTEND;TZID=America/New_York:20251113T110000
DTSTAMP:20260419T085531
CREATED:20230714T161239Z
LAST-MODIFIED:20260106T182159Z
UID:10000544-1763022600-1763031600@downtownferndale.com
SUMMARY:DDA Board of Directors Meeting
DESCRIPTION:Share your thoughts on the preliminary designs for Downtown Wayfinding for an upcoming project in 2026
URL:https://downtownferndale.com/event/dda-board-of-directors-meeting-3/2025-11-13/
LOCATION:Ferndale City Hall\, 300 East Nine Mile Road\, Ferndale\, MI\, 48220\, United States
CATEGORIES:DDA Board of Directors,Meetings
ATTACH;FMTTYPE=image/jpeg:https://downtownferndale.com/wp-content/uploads/2020/03/DDA-logo.jpg
ORGANIZER;CN="Downtown Ferndale":MAILTO:info@downtownferndale.com
END:VEVENT
BEGIN:VEVENT
DTSTART;VALUE=DATE:20251101
DTEND;VALUE=DATE:20251201
DTSTAMP:20260419T085531
CREATED:20250909T191643Z
LAST-MODIFIED:20250910T195440Z
UID:10000665-1761955200-1764547199@downtownferndale.com
SUMMARY:Local Gems Sweepstakes
DESCRIPTION:Share your thoughts on the preliminary designs for Downtown Wayfinding for an upcoming project in 2026
URL:https://downtownferndale.com/event/local-gems-sweepstakes/
LOCATION:Downtown Ferndale\, Woodward Ave. & Nine Mile\, Ferndale\, MI\, 48220\, United States
CATEGORIES:Events
ATTACH;FMTTYPE=image/png:https://downtownferndale.com/wp-content/uploads/2025/09/Website-Event-Images-6-e1757532939533.png
END:VEVENT
BEGIN:VEVENT
DTSTART;TZID=America/New_York:20251025T150000
DTEND;TZID=America/New_York:20251025T170000
DTSTAMP:20260419T085531
CREATED:20250831T170731Z
LAST-MODIFIED:20251022T201612Z
UID:10000664-1761404400-1761411600@downtownferndale.com
SUMMARY:Trick or Treat Downtown Ferndale
DESCRIPTION:Share your thoughts on the preliminary designs for Downtown Wayfinding for an upcoming project in 2026
URL:https://downtownferndale.com/event/trick-or-treat-downtown-ferndale/
LOCATION:Downtown Ferndale\, Woodward Ave. & Nine Mile\, Ferndale\, MI\, 48220\, United States
CATEGORIES:Events
ATTACH;FMTTYPE=image/png:https://downtownferndale.com/wp-content/uploads/2025/08/2024-Trick-or-Treat-1-e1756659997122.png
END:VEVENT
BEGIN:VEVENT
DTSTART;TZID=America/New_York:20251016T110000
DTEND;TZID=America/New_York:20251016T170000
DTSTAMP:20260419T085531
CREATED:20251029T164437Z
LAST-MODIFIED:20251029T164800Z
UID:10000668-1760612400-1760634000@downtownferndale.com
SUMMARY:Jingle & Mingle Underground Market
DESCRIPTION:Share your thoughts on the preliminary designs for Downtown Wayfinding for an upcoming project in 2026
URL:https://downtownferndale.com/event/jingle-mingle-underground-market-3/2025-10-16/
LOCATION:The dot\, 221 West Troy\, Ferndale\, MI\, 48220\, United States
CATEGORIES:Events
ATTACH;FMTTYPE=image/png:https://downtownferndale.com/wp-content/uploads/2025/10/thumbnail_3.5x3.5-Coaster_Ferndale-JM_2025-e1761756378718.png
END:VEVENT
BEGIN:VEVENT
DTSTART;TZID=America/New_York:20251009T083000
DTEND;TZID=America/New_York:20251009T110000
DTSTAMP:20260419T085531
CREATED:20230714T161239Z
LAST-MODIFIED:20260106T182159Z
UID:10000543-1759998600-1760007600@downtownferndale.com
SUMMARY:DDA Board of Directors Meeting
DESCRIPTION:Share your thoughts on the preliminary designs for Downtown Wayfinding for an upcoming project in 2026
URL:https://downtownferndale.com/event/dda-board-of-directors-meeting-3/2025-10-09/
LOCATION:Ferndale City Hall\, 300 East Nine Mile Road\, Ferndale\, MI\, 48220\, United States
CATEGORIES:DDA Board of Directors,Meetings
ATTACH;FMTTYPE=image/jpeg:https://downtownferndale.com/wp-content/uploads/2020/03/DDA-logo.jpg
ORGANIZER;CN="Downtown Ferndale":MAILTO:info@downtownferndale.com
END:VEVENT
BEGIN:VEVENT
DTSTART;TZID=America/New_York:20250927T100000
DTEND;TZID=America/New_York:20250927T140000
DTSTAMP:20260419T085531
CREATED:20250820T201358Z
LAST-MODIFIED:20250910T200136Z
UID:10000663-1758967200-1758981600@downtownferndale.com
SUMMARY:MI Downtown Day
DESCRIPTION:Share your thoughts on the preliminary designs for Downtown Wayfinding for an upcoming project in 2026
URL:https://downtownferndale.com/event/mi-downtown-day/
LOCATION:Downtown Ferndale\, Woodward Ave. & Nine Mile\, Ferndale\, MI\, 48220\, United States
CATEGORIES:Events
ATTACH;FMTTYPE=image/png:https://downtownferndale.com/wp-content/uploads/2025/08/Saturday-September-27-2025-e1755720919408.png
END:VEVENT
BEGIN:VEVENT
DTSTART;TZID=America/New_York:20250911T083000
DTEND;TZID=America/New_York:20250911T110000
DTSTAMP:20260419T085531
CREATED:20230714T161239Z
LAST-MODIFIED:20260106T182159Z
UID:10000542-1757579400-1757588400@downtownferndale.com
SUMMARY:DDA Board of Directors Meeting
DESCRIPTION:Share your thoughts on the preliminary designs for Downtown Wayfinding for an upcoming project in 2026
URL:https://downtownferndale.com/event/dda-board-of-directors-meeting-3/2025-09-11/
LOCATION:Ferndale City Hall\, 300 East Nine Mile Road\, Ferndale\, MI\, 48220\, United States
CATEGORIES:DDA Board of Directors,Meetings
ATTACH;FMTTYPE=image/jpeg:https://downtownferndale.com/wp-content/uploads/2020/03/DDA-logo.jpg
ORGANIZER;CN="Downtown Ferndale":MAILTO:info@downtownferndale.com
END:VEVENT
BEGIN:VEVENT
DTSTART;TZID=America/New_York:20250907T160000
DTEND;TZID=America/New_York:20250907T170000
DTSTAMP:20260419T085531
CREATED:20250609T180500Z
LAST-MODIFIED:20250709T184427Z
UID:10000634-1757260800-1757264400@downtownferndale.com
SUMMARY:Nine on Nine Concert Series
DESCRIPTION:Share your thoughts on the preliminary designs for Downtown Wayfinding for an upcoming project in 2026
URL:https://downtownferndale.com/event/nine-on-nine-concert-series-3/2025-09-07/
LOCATION:MI
CATEGORIES:Community Event,Events,Feature Event
ATTACH;FMTTYPE=image/png:https://downtownferndale.com/wp-content/uploads/2025/06/Website-Event-Images-e1749492246920.png
END:VEVENT
BEGIN:VEVENT
DTSTART;TZID=America/New_York:20250831T160000
DTEND;TZID=America/New_York:20250831T170000
DTSTAMP:20260419T085531
CREATED:20250609T180500Z
LAST-MODIFIED:20250709T184427Z
UID:10000633-1756656000-1756659600@downtownferndale.com
SUMMARY:Nine on Nine Concert Series
DESCRIPTION:Share your thoughts on the preliminary designs for Downtown Wayfinding for an upcoming project in 2026
URL:https://downtownferndale.com/event/nine-on-nine-concert-series-3/2025-08-31/
LOCATION:MI
CATEGORIES:Community Event,Events,Feature Event
ATTACH;FMTTYPE=image/png:https://downtownferndale.com/wp-content/uploads/2025/06/Website-Event-Images-e1749492246920.png
END:VEVENT
BEGIN:VEVENT
DTSTART;TZID=America/New_York:20250824T160000
DTEND;TZID=America/New_York:20250824T170000
DTSTAMP:20260419T085531
CREATED:20250609T180500Z
LAST-MODIFIED:20250709T184427Z
UID:10000632-1756051200-1756054800@downtownferndale.com
SUMMARY:Nine on Nine Concert Series
DESCRIPTION:Share your thoughts on the preliminary designs for Downtown Wayfinding for an upcoming project in 2026
URL:https://downtownferndale.com/event/nine-on-nine-concert-series-3/2025-08-24/
LOCATION:MI
CATEGORIES:Community Event,Events,Feature Event
ATTACH;FMTTYPE=image/png:https://downtownferndale.com/wp-content/uploads/2025/06/Website-Event-Images-e1749492246920.png
END:VEVENT
BEGIN:VEVENT
DTSTART;TZID=America/New_York:20250817T160000
DTEND;TZID=America/New_York:20250817T170000
DTSTAMP:20260419T085531
CREATED:20250609T180500Z
LAST-MODIFIED:20250709T184427Z
UID:10000631-1755446400-1755450000@downtownferndale.com
SUMMARY:Nine on Nine Concert Series
DESCRIPTION:Share your thoughts on the preliminary designs for Downtown Wayfinding for an upcoming project in 2026
URL:https://downtownferndale.com/event/nine-on-nine-concert-series-3/2025-08-17/
LOCATION:MI
CATEGORIES:Community Event,Events,Feature Event
ATTACH;FMTTYPE=image/png:https://downtownferndale.com/wp-content/uploads/2025/06/Website-Event-Images-e1749492246920.png
END:VEVENT
BEGIN:VEVENT
DTSTART;TZID=America/New_York:20250810T160000
DTEND;TZID=America/New_York:20250810T170000
DTSTAMP:20260419T085531
CREATED:20250609T180500Z
LAST-MODIFIED:20250709T184427Z
UID:10000630-1754841600-1754845200@downtownferndale.com
SUMMARY:Nine on Nine Concert Series
DESCRIPTION:Share your thoughts on the preliminary designs for Downtown Wayfinding for an upcoming project in 2026
URL:https://downtownferndale.com/event/nine-on-nine-concert-series-3/2025-08-10/
LOCATION:MI
CATEGORIES:Community Event,Events,Feature Event
ATTACH;FMTTYPE=image/png:https://downtownferndale.com/wp-content/uploads/2025/06/Website-Event-Images-e1749492246920.png
END:VEVENT
BEGIN:VEVENT
DTSTART;TZID=America/New_York:20250803T160000
DTEND;TZID=America/New_York:20250803T170000
DTSTAMP:20260419T085531
CREATED:20250609T180500Z
LAST-MODIFIED:20250709T184427Z
UID:10000629-1754236800-1754240400@downtownferndale.com
SUMMARY:Nine on Nine Concert Series
DESCRIPTION:Share your thoughts on the preliminary designs for Downtown Wayfinding for an upcoming project in 2026
URL:https://downtownferndale.com/event/nine-on-nine-concert-series-3/2025-08-03/
LOCATION:MI
CATEGORIES:Community Event,Events,Feature Event
ATTACH;FMTTYPE=image/png:https://downtownferndale.com/wp-content/uploads/2025/06/Website-Event-Images-e1749492246920.png
END:VEVENT
BEGIN:VEVENT
DTSTART;TZID=America/New_York:20250727T160000
DTEND;TZID=America/New_York:20250727T170000
DTSTAMP:20260419T085531
CREATED:20250609T180500Z
LAST-MODIFIED:20250709T184427Z
UID:10000628-1753632000-1753635600@downtownferndale.com
SUMMARY:Nine on Nine Concert Series
DESCRIPTION:Share your thoughts on the preliminary designs for Downtown Wayfinding for an upcoming project in 2026
URL:https://downtownferndale.com/event/nine-on-nine-concert-series-3/2025-07-27/
LOCATION:MI
CATEGORIES:Community Event,Events,Feature Event
ATTACH;FMTTYPE=image/png:https://downtownferndale.com/wp-content/uploads/2025/06/Website-Event-Images-e1749492246920.png
END:VEVENT
BEGIN:VEVENT
DTSTART;TZID=America/New_York:20250720T160000
DTEND;TZID=America/New_York:20250720T170000
DTSTAMP:20260419T085531
CREATED:20250609T180500Z
LAST-MODIFIED:20250709T184427Z
UID:10000627-1753027200-1753030800@downtownferndale.com
SUMMARY:Nine on Nine Concert Series
DESCRIPTION:Share your thoughts on the preliminary designs for Downtown Wayfinding for an upcoming project in 2026
URL:https://downtownferndale.com/event/nine-on-nine-concert-series-3/2025-07-20/
LOCATION:MI
CATEGORIES:Community Event,Events,Feature Event
ATTACH;FMTTYPE=image/png:https://downtownferndale.com/wp-content/uploads/2025/06/Website-Event-Images-e1749492246920.png
END:VEVENT
BEGIN:VEVENT
DTSTART;TZID=America/New_York:20250713T160000
DTEND;TZID=America/New_York:20250713T170000
DTSTAMP:20260419T085531
CREATED:20250609T180500Z
LAST-MODIFIED:20250709T184427Z
UID:10000626-1752422400-1752426000@downtownferndale.com
SUMMARY:Nine on Nine Concert Series
DESCRIPTION:Share your thoughts on the preliminary designs for Downtown Wayfinding for an upcoming project in 2026
URL:https://downtownferndale.com/event/nine-on-nine-concert-series-3/2025-07-13/
LOCATION:MI
CATEGORIES:Community Event,Events,Feature Event
ATTACH;FMTTYPE=image/png:https://downtownferndale.com/wp-content/uploads/2025/06/Website-Event-Images-e1749492246920.png
END:VEVENT
BEGIN:VEVENT
DTSTART;TZID=America/New_York:20250710T083000
DTEND;TZID=America/New_York:20250710T110000
DTSTAMP:20260419T085531
CREATED:20230714T161239Z
LAST-MODIFIED:20260106T182159Z
UID:10000540-1752136200-1752145200@downtownferndale.com
SUMMARY:DDA Board of Directors Meeting
DESCRIPTION:Share your thoughts on the preliminary designs for Downtown Wayfinding for an upcoming project in 2026
URL:https://downtownferndale.com/event/dda-board-of-directors-meeting-3/2025-07-10/
LOCATION:Ferndale City Hall\, 300 East Nine Mile Road\, Ferndale\, MI\, 48220\, United States
CATEGORIES:DDA Board of Directors,Meetings
ATTACH;FMTTYPE=image/jpeg:https://downtownferndale.com/wp-content/uploads/2020/03/DDA-logo.jpg
ORGANIZER;CN="Downtown Ferndale":MAILTO:info@downtownferndale.com
END:VEVENT
BEGIN:VEVENT
DTSTART;TZID=America/New_York:20250620T170000
DTEND;TZID=America/New_York:20250620T210000
DTSTAMP:20260419T085531
CREATED:20250604T171835Z
LAST-MODIFIED:20250604T172154Z
UID:10000625-1750438800-1750453200@downtownferndale.com
SUMMARY:Summer Solstice @ Schiffer Park featuring Karaoke & DJ
DESCRIPTION:Share your thoughts on the preliminary designs for Downtown Wayfinding for an upcoming project in 2026
URL:https://downtownferndale.com/event/summer-solstice-schiffer-park-featuring-karaoke-dj/
LOCATION:MI
CATEGORIES:Events
ATTACH;FMTTYPE=image/png:https://downtownferndale.com/wp-content/uploads/2025/06/Untitled-design-24-e1749057705267.png
END:VEVENT
END:VCALENDAR