BEGIN:VCALENDAR
VERSION:2.0
PRODID:-//Downtown Ferndale - ECPv6.15.20//NONSGML v1.0//EN
CALSCALE:GREGORIAN
METHOD:PUBLISH
X-ORIGINAL-URL:https://downtownferndale.com
X-WR-CALDESC:Events for Downtown Ferndale
REFRESH-INTERVAL;VALUE=DURATION:PT1H
X-Robots-Tag:noindex
X-PUBLISHED-TTL:PT1H
BEGIN:VTIMEZONE
TZID:America/New_York
BEGIN:DAYLIGHT
TZOFFSETFROM:-0500
TZOFFSETTO:-0400
TZNAME:EDT
DTSTART:20220313T070000
END:DAYLIGHT
BEGIN:STANDARD
TZOFFSETFROM:-0400
TZOFFSETTO:-0500
TZNAME:EST
DTSTART:20221106T060000
END:STANDARD
BEGIN:DAYLIGHT
TZOFFSETFROM:-0500
TZOFFSETTO:-0400
TZNAME:EDT
DTSTART:20230312T070000
END:DAYLIGHT
BEGIN:STANDARD
TZOFFSETFROM:-0400
TZOFFSETTO:-0500
TZNAME:EST
DTSTART:20231105T060000
END:STANDARD
BEGIN:DAYLIGHT
TZOFFSETFROM:-0500
TZOFFSETTO:-0400
TZNAME:EDT
DTSTART:20240310T070000
END:DAYLIGHT
BEGIN:STANDARD
TZOFFSETFROM:-0400
TZOFFSETTO:-0500
TZNAME:EST
DTSTART:20241103T060000
END:STANDARD
END:VTIMEZONE
BEGIN:VEVENT
DTSTART;TZID=America/New_York:20230606T180000
DTEND;TZID=America/New_York:20230606T193000
DTSTAMP:20260424T055714
CREATED:20230127T181006Z
LAST-MODIFIED:20230628T123835Z
UID:10000135-1686074400-1686079800@downtownferndale.com
SUMMARY:Downtown Volunteers Meeting: Vision Commitee
DESCRIPTION:As a community minded resident or business owner in the City of Ferndale\, your opinion is important. The Ferndale Downtown… Read More Downtown Volunteers Meeting: Vision Commitee
URL:https://downtownferndale.com/event/downtown-volunteers-meeting-vision-commitee/2023-06-06/
LOCATION:Ferndale DDA Office\, City Hall\, 300 East Nine Mile Road\, Ferndale\, MI\, 48220\, United States
CATEGORIES:Volunteers Meeting: Vision Committee
ATTACH;FMTTYPE=image/jpeg:https://downtownferndale.com/wp-content/uploads/2020/03/FerndaleLogo_Black.jpg
ORGANIZER;CN="Downtown Ferndale":MAILTO:info@downtownferndale.com
END:VEVENT
BEGIN:VEVENT
DTSTART;TZID=America/New_York:20230502T180000
DTEND;TZID=America/New_York:20230502T193000
DTSTAMP:20260424T055714
CREATED:20230127T181006Z
LAST-MODIFIED:20230628T123835Z
UID:10000134-1683050400-1683055800@downtownferndale.com
SUMMARY:Downtown Volunteers Meeting: Vision Commitee
DESCRIPTION:As a community minded resident or business owner in the City of Ferndale\, your opinion is important. The Ferndale Downtown… Read More Downtown Volunteers Meeting: Vision Commitee
URL:https://downtownferndale.com/event/downtown-volunteers-meeting-vision-commitee/2023-05-02/
LOCATION:Ferndale DDA Office\, City Hall\, 300 East Nine Mile Road\, Ferndale\, MI\, 48220\, United States
CATEGORIES:Volunteers Meeting: Vision Committee
ATTACH;FMTTYPE=image/jpeg:https://downtownferndale.com/wp-content/uploads/2020/03/FerndaleLogo_Black.jpg
ORGANIZER;CN="Downtown Ferndale":MAILTO:info@downtownferndale.com
END:VEVENT
BEGIN:VEVENT
DTSTART;TZID=America/New_York:20230404T180000
DTEND;TZID=America/New_York:20230404T193000
DTSTAMP:20260424T055714
CREATED:20230127T181006Z
LAST-MODIFIED:20230628T123835Z
UID:10000133-1680631200-1680636600@downtownferndale.com
SUMMARY:Downtown Volunteers Meeting: Vision Commitee
DESCRIPTION:As a community minded resident or business owner in the City of Ferndale\, your opinion is important. The Ferndale Downtown… Read More Downtown Volunteers Meeting: Vision Commitee
URL:https://downtownferndale.com/event/downtown-volunteers-meeting-vision-commitee/2023-04-04/
LOCATION:Ferndale DDA Office\, City Hall\, 300 East Nine Mile Road\, Ferndale\, MI\, 48220\, United States
CATEGORIES:Volunteers Meeting: Vision Committee
ATTACH;FMTTYPE=image/jpeg:https://downtownferndale.com/wp-content/uploads/2020/03/FerndaleLogo_Black.jpg
ORGANIZER;CN="Downtown Ferndale":MAILTO:info@downtownferndale.com
END:VEVENT
BEGIN:VEVENT
DTSTART;TZID=America/New_York:20230307T180000
DTEND;TZID=America/New_York:20230307T193000
DTSTAMP:20260424T055714
CREATED:20230127T181006Z
LAST-MODIFIED:20230628T123835Z
UID:10000132-1678212000-1678217400@downtownferndale.com
SUMMARY:Downtown Volunteers Meeting: Vision Commitee
DESCRIPTION:As a community minded resident or business owner in the City of Ferndale\, your opinion is important. The Ferndale Downtown… Read More Downtown Volunteers Meeting: Vision Commitee
URL:https://downtownferndale.com/event/downtown-volunteers-meeting-vision-commitee/2023-03-07/
LOCATION:Ferndale DDA Office\, City Hall\, 300 East Nine Mile Road\, Ferndale\, MI\, 48220\, United States
CATEGORIES:Volunteers Meeting: Vision Committee
ATTACH;FMTTYPE=image/jpeg:https://downtownferndale.com/wp-content/uploads/2020/03/FerndaleLogo_Black.jpg
ORGANIZER;CN="Downtown Ferndale":MAILTO:info@downtownferndale.com
END:VEVENT
BEGIN:VEVENT
DTSTART;TZID=America/New_York:20230207T180000
DTEND;TZID=America/New_York:20230207T193000
DTSTAMP:20260424T055714
CREATED:20230127T181006Z
LAST-MODIFIED:20230628T123835Z
UID:10000131-1675792800-1675798200@downtownferndale.com
SUMMARY:Downtown Volunteers Meeting: Vision Commitee
DESCRIPTION:As a community minded resident or business owner in the City of Ferndale\, your opinion is important. The Ferndale Downtown… Read More Downtown Volunteers Meeting: Vision Commitee
URL:https://downtownferndale.com/event/downtown-volunteers-meeting-vision-commitee/2023-02-07/
LOCATION:Ferndale DDA Office\, City Hall\, 300 East Nine Mile Road\, Ferndale\, MI\, 48220\, United States
CATEGORIES:Volunteers Meeting: Vision Committee
ATTACH;FMTTYPE=image/jpeg:https://downtownferndale.com/wp-content/uploads/2020/03/FerndaleLogo_Black.jpg
ORGANIZER;CN="Downtown Ferndale":MAILTO:info@downtownferndale.com
END:VEVENT
END:VCALENDAR